BEGIN:VCALENDAR
VERSION:2.0
PRODID:-//frconline.org//NONSGML kigkonsult.se iCalcreator 2.30.10//
CALSCALE:GREGORIAN
METHOD:PUBLISH
UID:154ff125-6bd2-4911-b873-ad2f8bafad43
X-WR-CALDESC:Discover ways to manage stress. \n\nLearn about child developm
 ent. \n\nBuild your toolkit for positive discipline and so much more!
X-WR-RELCALID:451e9597a8ca88ceae524ee706cab9e5
X-WR-TIMEZONE:America/Los_Angeles
BEGIN:VTIMEZONE
TZID:America/Los_Angeles
BEGIN:STANDARD
TZNAME:PST
DTSTART:20231105T020000
TZOFFSETFROM:-0700
TZOFFSETTO:-0800
RDATE:20241103T020000
RDATE:20251102T020000
END:STANDARD
BEGIN:DAYLIGHT
TZNAME:PDT
DTSTART:20240310T020000
TZOFFSETFROM:-0800
TZOFFSETTO:-0700
RDATE:20250309T020000
RDATE:20260308T020000
END:DAYLIGHT
END:VTIMEZONE
BEGIN:VEVENT
UID:f74b128d-deed-4ce1-a530-a02ab97c0ff2
DTSTAMP:20260420T064826Z
DESCRIPTION:Discover ways to manage stress. \n\nLearn about child developme
 nt. \n\nBuild your toolkit for positive discipline and so much more!
DTSTART;TZID=America/Los_Angeles:20240923T173000
DTEND;TZID=America/Los_Angeles:20240923T193000
LOCATION:OCDC\, 659 NE A St\, Madras\, OR 97741 US
SUMMARY:Make Parenting A Pleasure
END:VEVENT
END:VCALENDAR
