BEGIN:VCALENDAR
VERSION:2.0
PRODID:-//frconline.org//NONSGML kigkonsult.se iCalcreator 2.30.10//
CALSCALE:GREGORIAN
METHOD:PUBLISH
UID:79dc1a82-f58d-42dc-abbb-c19affa7a549
X-WR-CALDESC:This is fun interactive program that uses child-centered play 
 to develop positive relationships.
X-WR-RELCALID:d4f2df3d3e4a744c637002729cafeb6a
X-WR-TIMEZONE:America/Los_Angeles
BEGIN:VTIMEZONE
TZID:America/Los_Angeles
BEGIN:STANDARD
TZNAME:PST
DTSTART:20231105T020000
TZOFFSETFROM:-0700
TZOFFSETTO:-0800
RDATE:20241103T020000
RDATE:20251102T020000
END:STANDARD
BEGIN:DAYLIGHT
TZNAME:PDT
DTSTART:20240310T020000
TZOFFSETFROM:-0800
TZOFFSETTO:-0700
RDATE:20250309T020000
RDATE:20260308T020000
END:DAYLIGHT
END:VTIMEZONE
BEGIN:VEVENT
UID:4c00904a-6c2a-4967-8101-5112e630dd41
DTSTAMP:20260420T064825Z
DESCRIPTION:This is fun interactive program that uses child-centered play t
 o develop positive relationships.
DTSTART;TZID=America/Los_Angeles:20240918T173000
DTEND;TZID=America/Los_Angeles:20240918T193000
LOCATION:Family Resource Center\, 1200 NE Twin Knolls Dr\, Bend\, OR 97701 
 US
SUMMARY:The Incredible Years
END:VEVENT
END:VCALENDAR
