BEGIN:VCALENDAR
VERSION:2.0
PRODID:-//frconline.org//NONSGML kigkonsult.se iCalcreator 2.30.10//
CALSCALE:GREGORIAN
METHOD:PUBLISH
UID:203348be-367d-4d8e-ba6d-08d2c54a4b6e
X-WR-CALDESC:Discover ways to manage stress. \n\nLearn about child developm
 ent. \n\nBuild your toolkit for positive discipline and so much more!
X-WR-RELCALID:58b28c9818c695071752e1451b6f27d2
X-WR-TIMEZONE:America/Los_Angeles
BEGIN:VTIMEZONE
TZID:America/Los_Angeles
BEGIN:STANDARD
TZNAME:PST
DTSTART:20231105T020000
TZOFFSETFROM:-0700
TZOFFSETTO:-0800
RDATE:20241103T020000
RDATE:20251102T020000
END:STANDARD
BEGIN:DAYLIGHT
TZNAME:PDT
DTSTART:20240310T020000
TZOFFSETFROM:-0800
TZOFFSETTO:-0700
RDATE:20250309T020000
RDATE:20260308T020000
END:DAYLIGHT
END:VTIMEZONE
BEGIN:VEVENT
UID:2c0e3dd4-aa03-4189-930e-3634a571453e
DTSTAMP:20260420T064751Z
DESCRIPTION:Discover ways to manage stress. \n\nLearn about child developme
 nt. \n\nBuild your toolkit for positive discipline and so much more!
DTSTART;TZID=America/Los_Angeles:20240916T173000
DTEND;TZID=America/Los_Angeles:20240916T193000
LOCATION:OCDC\, 659 NE A St\, Madras\, OR 97741 US
SUMMARY:Make Parenting A Pleasure
END:VEVENT
END:VCALENDAR
