BEGIN:VCALENDAR
VERSION:2.0
PRODID:-//frconline.org//NONSGML kigkonsult.se iCalcreator 2.30.10//
CALSCALE:GREGORIAN
METHOD:PUBLISH
UID:3e1c37c0-566c-4b44-b280-ff82f189cdae
X-WR-CALDESC:KEEP Kinship support groups provide relative caregivers a welc
 ome place to share experiences\, get tips and strategies\, and most import
 antly the support that is critical in this frequently stressful role. Clas
 s held on Zoom.
X-WR-RELCALID:4f2cc0b37a0bb9a1b07dfd9b0739500a
X-WR-TIMEZONE:America/Los_Angeles
BEGIN:VTIMEZONE
TZID:America/Los_Angeles
BEGIN:STANDARD
TZNAME:PST
DTSTART:20231105T020000
TZOFFSETFROM:-0700
TZOFFSETTO:-0800
RDATE:20241103T020000
RDATE:20251102T020000
END:STANDARD
BEGIN:DAYLIGHT
TZNAME:PDT
DTSTART:20240310T020000
TZOFFSETFROM:-0800
TZOFFSETTO:-0700
RDATE:20250309T020000
RDATE:20260308T020000
END:DAYLIGHT
END:VTIMEZONE
BEGIN:VEVENT
UID:2575c4c5-13eb-4046-89d0-5cd40a4e6c3f
DTSTAMP:20260420T064713Z
DESCRIPTION:KEEP Kinship support groups provide relative caregivers a welco
 me place to share experiences\, get tips and strategies\, and most importa
 ntly the support that is critical in this frequently stressful role. Class
  held on Zoom.
DTSTART;TZID=America/Los_Angeles:20240916T100000
DTEND;TZID=America/Los_Angeles:20240916T113000
LOCATION:
SUMMARY:KEEP Connecting Kin
END:VEVENT
END:VCALENDAR
