BEGIN:VCALENDAR
VERSION:2.0
PRODID:-//frconline.org//NONSGML kigkonsult.se iCalcreator 2.30.10//
CALSCALE:GREGORIAN
METHOD:PUBLISH
UID:f132636a-4a91-42c4-8815-d9c330289e65
X-WR-CALDESC:KEEP Kinship support groups provide relative caregivers a welc
 ome place to share experiences\, get tips and strategies\, and most import
 antly\, the support that is critical in this frequently stressful role. Cl
 ass held on Zoom.
X-WR-RELCALID:56e39799c5988c08ccf2751dce244d5c
X-WR-TIMEZONE:America/Los_Angeles
BEGIN:VTIMEZONE
TZID:America/Los_Angeles
BEGIN:STANDARD
TZNAME:PST
DTSTART:20231105T020000
TZOFFSETFROM:-0700
TZOFFSETTO:-0800
RDATE:20241103T020000
RDATE:20251102T020000
END:STANDARD
BEGIN:DAYLIGHT
TZNAME:PDT
DTSTART:20240310T020000
TZOFFSETFROM:-0800
TZOFFSETTO:-0700
RDATE:20250309T020000
RDATE:20260308T020000
END:DAYLIGHT
END:VTIMEZONE
BEGIN:VEVENT
UID:16a2f51f-e65b-489e-99ab-ca6c32a3ab35
DTSTAMP:20260420T064712Z
DESCRIPTION:KEEP Kinship support groups provide relative caregivers a welco
 me place to share experiences\, get tips and strategies\, and most importa
 ntly\, the support that is critical in this frequently stressful role. Cla
 ss held on Zoom.
DTSTART;TZID=America/Los_Angeles:20240911T180000
DTEND;TZID=America/Los_Angeles:20240911T193000
LOCATION:Held via Zoom
SUMMARY:Keep Connecting Kin
END:VEVENT
END:VCALENDAR
