BEGIN:VCALENDAR
VERSION:2.0
PRODID:-//frconline.org//NONSGML kigkonsult.se iCalcreator 2.30.10//
CALSCALE:GREGORIAN
METHOD:PUBLISH
UID:adea8778-be3f-4238-8df3-b6f3e6e9f2b1
X-WR-CALDESC:KEEP Kinship support groups provide relative caregivers a welc
 ome place to share experiences\, get tips and strategies\, and most import
 antly the support that is critical in this frequently stressful role. Clas
 s held on Zoom.
X-WR-RELCALID:3951ce17b0758a5d68f0328a6277fa7e
X-WR-TIMEZONE:America/Los_Angeles
BEGIN:VTIMEZONE
TZID:America/Los_Angeles
BEGIN:STANDARD
TZNAME:PST
DTSTART:20231105T020000
TZOFFSETFROM:-0700
TZOFFSETTO:-0800
RDATE:20241103T020000
RDATE:20251102T020000
END:STANDARD
BEGIN:DAYLIGHT
TZNAME:PDT
DTSTART:20240310T020000
TZOFFSETFROM:-0800
TZOFFSETTO:-0700
RDATE:20250309T020000
END:DAYLIGHT
END:VTIMEZONE
BEGIN:VEVENT
UID:8cbd882f-26f7-4d37-90de-74e48970f46d
DTSTAMP:20260420T084110Z
DESCRIPTION:KEEP Kinship support groups provide relative caregivers a welco
 me place to share experiences\, get tips and strategies\, and most importa
 ntly the support that is critical in this frequently stressful role. Class
  held on Zoom.
DTSTART;TZID=America/Los_Angeles:20240819T100000
DTEND;TZID=America/Los_Angeles:20240819T113000
LOCATION:
SUMMARY:KEEP Connecting Kin
END:VEVENT
END:VCALENDAR
