BEGIN:VCALENDAR
VERSION:2.0
PRODID:-//frconline.org//NONSGML kigkonsult.se iCalcreator 2.30.10//
CALSCALE:GREGORIAN
METHOD:PUBLISH
UID:26db7ab6-6d83-4080-bb71-f629c82f4d20
X-WR-CALDESC:KEEP Kinship support groups provide relative caregivers a welc
 ome place to share experiences\, get tips and strategies\, and most import
 antly\, the support that is critical in this frequently stressful role. Cl
 ass held on Zoom.
X-WR-RELCALID:97ce1155570118f5acd7fe56e04d3823
X-WR-TIMEZONE:America/Los_Angeles
BEGIN:VTIMEZONE
TZID:America/Los_Angeles
BEGIN:STANDARD
TZNAME:PST
DTSTART:20231105T020000
TZOFFSETFROM:-0700
TZOFFSETTO:-0800
RDATE:20241103T020000
RDATE:20251102T020000
END:STANDARD
BEGIN:DAYLIGHT
TZNAME:PDT
DTSTART:20240310T020000
TZOFFSETFROM:-0800
TZOFFSETTO:-0700
RDATE:20250309T020000
END:DAYLIGHT
END:VTIMEZONE
BEGIN:VEVENT
UID:85ccb4f6-33eb-4987-a796-a92a38e0379a
DTSTAMP:20260420T102534Z
DESCRIPTION:KEEP Kinship support groups provide relative caregivers a welco
 me place to share experiences\, get tips and strategies\, and most importa
 ntly\, the support that is critical in this frequently stressful role. Cla
 ss held on Zoom.
DTSTART;TZID=America/Los_Angeles:20240731T180000
DTEND;TZID=America/Los_Angeles:20240731T193000
LOCATION:Held via Zoom
SUMMARY:Keep Connecting Kin
END:VEVENT
END:VCALENDAR
