BEGIN:VCALENDAR
VERSION:2.0
PRODID:-//frconline.org//NONSGML kigkonsult.se iCalcreator 2.30.10//
CALSCALE:GREGORIAN
METHOD:PUBLISH
UID:0fbc1547-0fe4-49e9-bc84-02c8e44e71c1
X-WR-CALDESC:The Family Law Education Program was created to help families 
 navigate through restructure and be more prepared to co-parent\, so they c
 an better support their children's physical\, social\, emotional\, and beh
 avioral well-being. The session will discuss ways to build or maintain a p
 ositive relationship with the co-parent and will provide a brief overview 
 of the legal process and parenting plan.\n\nThe Family Law Education Progr
 am is now offered as a Zoom class for parents in Deschutes County experien
 cing family restructuring such as a separation or divorce.
X-WR-RELCALID:1d9e53d8478b8e0af3917fc9ea00a968
X-WR-TIMEZONE:America/Los_Angeles
BEGIN:VTIMEZONE
TZID:America/Los_Angeles
BEGIN:STANDARD
TZNAME:PST
DTSTART:20231105T020000
TZOFFSETFROM:-0700
TZOFFSETTO:-0800
RDATE:20241103T020000
RDATE:20251102T020000
END:STANDARD
BEGIN:DAYLIGHT
TZNAME:PDT
DTSTART:20240310T020000
TZOFFSETFROM:-0800
TZOFFSETTO:-0700
RDATE:20250309T020000
END:DAYLIGHT
END:VTIMEZONE
BEGIN:VEVENT
UID:3cbd1f32-c84e-43d6-b067-ed058d0afca5
DTSTAMP:20260420T103018Z
DESCRIPTION:The Family Law Education Program was created to help families n
 avigate through restructure and be more prepared to co-parent\, so they ca
 n better support their children's physical\, social\, emotional\, and beha
 vioral well-being. The session will discuss ways to build or maintain a po
 sitive relationship with the co-parent and will provide a brief overview o
 f the legal process and parenting plan.\n\nThe Family Law Education Progra
 m is now offered as a Zoom class for parents in Deschutes County experienc
 ing family restructuring such as a separation or divorce.
DTSTART;TZID=America/Los_Angeles:20240702T173000
DTEND;TZID=America/Los_Angeles:20240702T213000
LOCATION:Zoom
SUMMARY:Family Law Education Program
END:VEVENT
END:VCALENDAR
