BEGIN:VCALENDAR
VERSION:2.0
PRODID:-//frconline.org//NONSGML kigkonsult.se iCalcreator 2.30.10//
CALSCALE:GREGORIAN
METHOD:PUBLISH
UID:cd93cf90-c5f5-4aea-9fb4-e0298650216d
X-WR-CALDESC:-A SUPPORT group not a class!\n-For foster parents caring for 
 adolescents ages 13-18 years old\n-A group of 7-12 foster/kinship parents 
 and two trained group leaders\n-A time to connect with other foster parent
 s and kinship families\n-You will receive a $25 check for each remote sess
 ion attended per household\n-You can earn up to 24 foster parent training 
 hours toward DHS certification
X-WR-RELCALID:52c8405e1d39f0a302971cd3fd13a322
X-WR-TIMEZONE:America/Los_Angeles
BEGIN:VTIMEZONE
TZID:America/Los_Angeles
BEGIN:STANDARD
TZNAME:PST
DTSTART:20231105T020000
TZOFFSETFROM:-0700
TZOFFSETTO:-0800
RDATE:20241103T020000
RDATE:20251102T020000
END:STANDARD
BEGIN:DAYLIGHT
TZNAME:PDT
DTSTART:20240310T020000
TZOFFSETFROM:-0800
TZOFFSETTO:-0700
RDATE:20250309T020000
END:DAYLIGHT
END:VTIMEZONE
BEGIN:VEVENT
UID:49984a21-76cc-4d51-970c-7884550406a3
DTSTAMP:20260420T121425Z
DESCRIPTION:-A SUPPORT group not a class!\n-For foster parents caring for a
 dolescents ages 13-18 years old\n-A group of 7-12 foster/kinship parents a
 nd two trained group leaders\n-A time to connect with other foster parents
  and kinship families\n-You will receive a $25 check for each remote sessi
 on attended per household\n-You can earn up to 24 foster parent training h
 ours toward DHS certification
DTSTART;TZID=America/Los_Angeles:20240613T180000
DTEND;TZID=America/Los_Angeles:20240613T193000
LOCATION:Zoom
SUMMARY:Keep Safe
END:VEVENT
END:VCALENDAR
