BEGIN:VCALENDAR
VERSION:2.0
PRODID:-//frconline.org//NONSGML kigkonsult.se iCalcreator 2.30.10//
CALSCALE:GREGORIAN
METHOD:PUBLISH
UID:71bbe1e7-f771-47ee-ad29-79b2ab9f31da
X-WR-CALDESC:KEEP is a statewide support program available to Oregon's reso
 urce\, kinship\, adoptive\, and assisted guardian parents raising youth ag
 es 2 and up.\n\nKEEP is free & eligible participants can earn up to 24 tra
 ining hours & $25 per household per week attended. \n\nShare and discuss h
 elpful parenting strategies!
X-WR-RELCALID:2dafe2d20ee24654a9798ea275f1ee0f
X-WR-TIMEZONE:America/Los_Angeles
BEGIN:VTIMEZONE
TZID:America/Los_Angeles
BEGIN:STANDARD
TZNAME:PST
DTSTART:20231105T020000
TZOFFSETFROM:-0700
TZOFFSETTO:-0800
RDATE:20241103T020000
RDATE:20251102T020000
END:STANDARD
BEGIN:DAYLIGHT
TZNAME:PDT
DTSTART:20240310T020000
TZOFFSETFROM:-0800
TZOFFSETTO:-0700
RDATE:20250309T020000
END:DAYLIGHT
END:VTIMEZONE
BEGIN:VEVENT
UID:6c9c25b1-f935-4e03-a7f5-f589fc25bf9f
DTSTAMP:20260420T134709Z
DESCRIPTION:KEEP is a statewide support program available to Oregon's resou
 rce\, kinship\, adoptive\, and assisted guardian parents raising youth age
 s 2 and up.\n\nKEEP is free & eligible participants can earn up to 24 trai
 ning hours & $25 per household per week attended. \n\nShare and discuss he
 lpful parenting strategies!
DTSTART;TZID=America/Los_Angeles:20240514T100000
DTEND;TZID=America/Los_Angeles:20240514T113000
LOCATION:Zoom
SUMMARY:Keep Standard
END:VEVENT
END:VCALENDAR
