BEGIN:VCALENDAR
VERSION:2.0
PRODID:-//frconline.org//NONSGML kigkonsult.se iCalcreator 2.30.10//
CALSCALE:GREGORIAN
METHOD:PUBLISH
UID:0c1a281a-97b5-41f5-822a-609a9eed6666
X-WR-CALDESC:This just for dads’ group is facilitated by a local educator a
 nd parent enthusiast\, Todd LaFrenz. \n \nThe group will meet for 12 weeks
  to:\n·       Grow your support network with other dads.\n·       Discover
  how to manage stress in healthy ways.\n·       Learn the latest ideas abo
 ut development for children under 10. \n       Build your toolkit for posi
 tive discipline.
X-WR-RELCALID:710f53c47e4fe8714c0be2e9ece9b459
X-WR-TIMEZONE:America/Los_Angeles
BEGIN:VTIMEZONE
TZID:America/Los_Angeles
BEGIN:STANDARD
TZNAME:PST
DTSTART:20231105T020000
TZOFFSETFROM:-0700
TZOFFSETTO:-0800
RDATE:20241103T020000
RDATE:20251102T020000
END:STANDARD
BEGIN:DAYLIGHT
TZNAME:PDT
DTSTART:20240310T020000
TZOFFSETFROM:-0800
TZOFFSETTO:-0700
RDATE:20250309T020000
END:DAYLIGHT
END:VTIMEZONE
BEGIN:VEVENT
UID:e9dfc415-16d0-4a10-83e3-20c95c33a462
DTSTAMP:20260420T141043Z
DESCRIPTION:This just for dads’ group is facilitated by a local educator an
 d parent enthusiast\, Todd LaFrenz. \n \nThe group will meet for 12 weeks 
 to:\n·       Grow your support network with other dads.\n·       Discover 
 how to manage stress in healthy ways.\n·       Learn the latest ideas abou
 t development for children under 10. \n       Build your toolkit for posit
 ive discipline.
DTSTART;TZID=America/Los_Angeles:20240509T173000
DTEND;TZID=America/Los_Angeles:20240509T193000
LOCATION:2500 NE Twin Knolls Dr\, Suite 130\, Bend\, OR 97701 US
SUMMARY:Make Parenting A Pleasure - Just for Dad's
END:VEVENT
END:VCALENDAR
