BEGIN:VCALENDAR
VERSION:2.0
PRODID:-//frconline.org//NONSGML kigkonsult.se iCalcreator 2.30.10//
CALSCALE:GREGORIAN
METHOD:PUBLISH
UID:99e3dd84-54f8-4f90-9ddb-1f1914f7a5b0
X-WR-CALDESC:Para padres con hijos recien nacidos - 5 años\nJueves de 5:30 
 a 7:30pm\n14 de Marzo al 16 de Mayo de 2024
X-WR-RELCALID:052e393988205fb8d63b7928e185b9c3
X-WR-TIMEZONE:America/Los_Angeles
BEGIN:VTIMEZONE
TZID:America/Los_Angeles
BEGIN:STANDARD
TZNAME:PST
DTSTART:20231105T020000
TZOFFSETFROM:-0700
TZOFFSETTO:-0800
RDATE:20241103T020000
END:STANDARD
BEGIN:DAYLIGHT
TZNAME:PDT
DTSTART:20240310T020000
TZOFFSETFROM:-0800
TZOFFSETTO:-0700
RDATE:20250309T020000
END:DAYLIGHT
END:VTIMEZONE
BEGIN:VEVENT
UID:c8009962-f6e6-4ef7-a1ec-f3f1080b702e
DTSTAMP:20260420T141105Z
DESCRIPTION:Para padres con hijos recien nacidos - 5 años\nJueves de 5:30 a
  7:30pm\n14 de Marzo al 16 de Mayo de 2024
DTSTART;TZID=America/Los_Angeles:20240502T173000
DTEND;TZID=America/Los_Angeles:20240502T193000
LOCATION:659 NE A St\, Madras\, OR 97741 US
SUMMARY:Círculo de Seguridad De Padres
END:VEVENT
END:VCALENDAR
