BEGIN:VCALENDAR
VERSION:2.0
PRODID:-//frconline.org//NONSGML kigkonsult.se iCalcreator 2.30.10//
CALSCALE:GREGORIAN
METHOD:PUBLISH
UID:c23ebede-c75e-48e1-b374-36666d634675
X-WR-CALDESC:Improve communication with your teen. Learn about social media
  and technology and how to approach it.\nDiscuss teen brain development an
 d how it affects their decision making and much more. \nFor parents with c
 hildren ages 10-17. \n\nWhere: Zoom \nCost: Free
X-WR-RELCALID:0e9ae2ee23d5de2140dd1b4be0fa3212
X-WR-TIMEZONE:America/Los_Angeles
BEGIN:VTIMEZONE
TZID:America/Los_Angeles
BEGIN:STANDARD
TZNAME:PST
DTSTART:20231105T020000
TZOFFSETFROM:-0700
TZOFFSETTO:-0800
RDATE:20241103T020000
END:STANDARD
BEGIN:DAYLIGHT
TZNAME:PDT
DTSTART:20240310T020000
TZOFFSETFROM:-0800
TZOFFSETTO:-0700
RDATE:20250309T020000
END:DAYLIGHT
END:VTIMEZONE
BEGIN:VEVENT
UID:d4f5dd89-35f7-4e52-b005-f28304d1c991
DTSTAMP:20260420T152331Z
DESCRIPTION:Improve communication with your teen. Learn about social media 
 and technology and how to approach it.\nDiscuss teen brain development and
  how it affects their decision making and much more. \nFor parents with ch
 ildren ages 10-17. \n\nWhere: Zoom \nCost: Free
DTSTART;TZID=America/Los_Angeles:20240429T173000
DTEND;TZID=America/Los_Angeles:20240429T193000
LOCATION:Zoom
SUMMARY:Active Parenting of Teens
END:VEVENT
END:VCALENDAR
