BEGIN:VCALENDAR
VERSION:2.0
PRODID:-//frconline.org//NONSGML kigkonsult.se iCalcreator 2.30.10//
CALSCALE:GREGORIAN
METHOD:PUBLISH
UID:9d8f8499-c698-4a81-ae3f-b39879373149
X-WR-CALDESC:Join a community of parents to:\n\n· Discover ways to manage s
 tress.\n\n· Learn about child development.\n\n· Build your toolkit for pos
 itive discipline.
X-WR-RELCALID:219bdb297479777e3d03f82954cf86bb
X-WR-TIMEZONE:America/Los_Angeles
BEGIN:VTIMEZONE
TZID:America/Los_Angeles
BEGIN:STANDARD
TZNAME:PST
DTSTART:20231105T020000
TZOFFSETFROM:-0700
TZOFFSETTO:-0800
RDATE:20241103T020000
END:STANDARD
BEGIN:DAYLIGHT
TZNAME:PDT
DTSTART:20240310T020000
TZOFFSETFROM:-0800
TZOFFSETTO:-0700
RDATE:20250309T020000
END:DAYLIGHT
END:VTIMEZONE
BEGIN:VEVENT
UID:fd4397ea-dafa-4f25-8cc0-7e85eeef0fea
DTSTAMP:20260420T153457Z
DESCRIPTION:Join a community of parents to:\n\n· Discover ways to manage st
 ress.\n\n· Learn about child development.\n\n· Build your toolkit for posi
 tive discipline.
DTSTART;TZID=America/Los_Angeles:20240424T173000
DTEND;TZID=America/Los_Angeles:20240424T193000
LOCATION:2500 NE Twin Knolls Dr.\, Suite 130\, Bend\, OR 97701 US
SUMMARY:Make Parenting A Pleasure
END:VEVENT
END:VCALENDAR
