BEGIN:VCALENDAR
VERSION:2.0
PRODID:-//frconline.org//NONSGML kigkonsult.se iCalcreator 2.30.10//
CALSCALE:GREGORIAN
METHOD:PUBLISH
UID:2d6f3af1-dff8-41f8-ad24-3b94e07be4e9
X-WR-CALDESC:Get a 2 year certification in First Aid and CPR.\n\nCost is $6
 5 - Scholarships available.
X-WR-RELCALID:8ada826fd64ac17f1e8358424d6fe35d
X-WR-TIMEZONE:America/Los_Angeles
BEGIN:VTIMEZONE
TZID:America/Los_Angeles
BEGIN:STANDARD
TZNAME:PST
DTSTART:20231105T020000
TZOFFSETFROM:-0700
TZOFFSETTO:-0800
RDATE:20241103T020000
END:STANDARD
BEGIN:DAYLIGHT
TZNAME:PDT
DTSTART:20240310T020000
TZOFFSETFROM:-0800
TZOFFSETTO:-0700
RDATE:20250309T020000
END:DAYLIGHT
END:VTIMEZONE
BEGIN:VEVENT
UID:d9d8a184-5043-496d-ae04-09ac20c1299c
DTSTAMP:20260420T165821Z
DESCRIPTION:Get a 2 year certification in First Aid and CPR.\n\nCost is $65
  - Scholarships available.
DTSTART;TZID=America/Los_Angeles:20240320T140000
DTEND;TZID=America/Los_Angeles:20240320T153000
LOCATION:2500 NE Twin Knolls Dr\, Suite 130\, Bend\, OR 97701 US
SUMMARY:First Aid and CPR Training
END:VEVENT
END:VCALENDAR
