BEGIN:VCALENDAR
VERSION:2.0
PRODID:-//frconline.org//NONSGML kigkonsult.se iCalcreator 2.30.10//
CALSCALE:GREGORIAN
METHOD:PUBLISH
UID:28a03c0d-aa9d-48ab-9f19-4cbfd80867db
X-WR-CALDESC:Imagine what it might feel like if you were able to make sense
  of what your child was really asking from you.\nHelp your child feel safe
 \, regulate their emotions\, and build their self-esteem.\n\nFor parents w
 ith children birth - 5 years.
X-WR-RELCALID:9804963b60c87dea09244973fceb07bd
X-WR-TIMEZONE:America/Los_Angeles
BEGIN:VTIMEZONE
TZID:America/Los_Angeles
BEGIN:STANDARD
TZNAME:PST
DTSTART:20231105T020000
TZOFFSETFROM:-0700
TZOFFSETTO:-0800
RDATE:20241103T020000
END:STANDARD
BEGIN:DAYLIGHT
TZNAME:PDT
DTSTART:20230312T020000
TZOFFSETFROM:-0800
TZOFFSETTO:-0700
RDATE:20240310T020000
RDATE:20250309T020000
END:DAYLIGHT
END:VTIMEZONE
BEGIN:VEVENT
UID:651b03d6-bc9d-4254-aed6-c4e85c241f56
DTSTAMP:20260420T170723Z
DESCRIPTION:Imagine what it might feel like if you were able to make sense 
 of what your child was really asking from you.\nHelp your child feel safe\
 , regulate their emotions\, and build their self-esteem.\n\nFor parents wi
 th children birth - 5 years.
DTSTART;TZID=America/Los_Angeles:20240306T173000
DTEND;TZID=America/Los_Angeles:20240306T193000
LOCATION:
SUMMARY:Circle of Security
END:VEVENT
END:VCALENDAR
