BEGIN:VCALENDAR
VERSION:2.0
PRODID:-//frconline.org//NONSGML kigkonsult.se iCalcreator 2.30.10//
CALSCALE:GREGORIAN
METHOD:PUBLISH
UID:9dad9e41-4881-4484-af28-43ccbb9ca97c
X-WR-CALDESC:For families with youth ages 10-17 years old.\nLearn about:\n-
 Technology & social media\n-How brain development affects teen behavior an
 d decision-making\n-Improve communication & more!\n\nHeld on Zoom
X-WR-RELCALID:97f999429ec8b5ad6b2a8ebf382e1d96
X-WR-TIMEZONE:America/Los_Angeles
BEGIN:VTIMEZONE
TZID:America/Los_Angeles
BEGIN:STANDARD
TZNAME:PST
DTSTART:20231105T020000
TZOFFSETFROM:-0700
TZOFFSETTO:-0800
RDATE:20241103T020000
END:STANDARD
BEGIN:DAYLIGHT
TZNAME:PDT
DTSTART:20230312T020000
TZOFFSETFROM:-0800
TZOFFSETTO:-0700
RDATE:20240310T020000
RDATE:20250309T020000
END:DAYLIGHT
END:VTIMEZONE
BEGIN:VEVENT
UID:3e21d3b2-77f3-467e-8953-baf6144c7cb0
DTSTAMP:20260420T184907Z
DESCRIPTION:For families with youth ages 10-17 years old.\nLearn about:\n-T
 echnology & social media\n-How brain development affects teen behavior and
  decision-making\n-Improve communication & more!\n\nHeld on Zoom
DTSTART;TZID=America/Los_Angeles:20240201T173000
DTEND;TZID=America/Los_Angeles:20240201T193000
LOCATION:
SUMMARY:Active Parenting of Teens
END:VEVENT
END:VCALENDAR
