BEGIN:VCALENDAR
VERSION:2.0
PRODID:-//frconline.org//NONSGML kigkonsult.se iCalcreator 2.30.10//
CALSCALE:GREGORIAN
METHOD:PUBLISH
UID:74843a7c-52a6-4b6c-b923-d2a0f941f7c9
X-WR-CALDESC:\nis an ongoing class for Central Oregon parents with children
  between the ages of 5-12 years old -- This is a year-round open enrollmen
 t class\, enter anytime!\n\nYou'll learn positive parenting strategies and
  parent with less stress and more FUN.\n\nFulfills mandated client require
 ment.\n\nYou will receive a certificate after 12 consecutive weeks of part
 icipation.\n\nCost: $Free\n\nCall to register & get started!
X-WR-RELCALID:704dde44ebb1fee7477bb1c80d2fde28
X-WR-TIMEZONE:America/Los_Angeles
BEGIN:VTIMEZONE
TZID:America/Los_Angeles
BEGIN:STANDARD
TZNAME:PST
DTSTART:20231105T020000
TZOFFSETFROM:-0700
TZOFFSETTO:-0800
RDATE:20241103T020000
END:STANDARD
BEGIN:DAYLIGHT
TZNAME:PDT
DTSTART:20230312T020000
TZOFFSETFROM:-0800
TZOFFSETTO:-0700
RDATE:20240310T020000
RDATE:20250309T020000
END:DAYLIGHT
END:VTIMEZONE
BEGIN:VEVENT
UID:850fc58c-f489-47bf-9354-3880b4b6f956
DTSTAMP:20260420T202912Z
DESCRIPTION:\nis an ongoing class for Central Oregon parents with children 
 between the ages of 5-12 years old -- This is a year-round open enrollment
  class\, enter anytime!\n\nYou'll learn positive parenting strategies and 
 parent with less stress and more FUN.\n\nFulfills mandated client requirem
 ent.\n\nYou will receive a certificate after 12 consecutive weeks of parti
 cipation.\n\nCost: $Free\n\nCall to register & get started!
DTSTART;TZID=America/Los_Angeles:20240123T173000
DTEND;TZID=America/Los_Angeles:20240123T193000
LOCATION:Via Zoom
SUMMARY:Nurturing Parenting School Age 5-12 years old
END:VEVENT
END:VCALENDAR
