BEGIN:VCALENDAR
VERSION:2.0
PRODID:-//frconline.org//NONSGML kigkonsult.se iCalcreator 2.30.10//
CALSCALE:GREGORIAN
METHOD:PUBLISH
UID:7ff27cc2-7453-41a1-9da5-0f9f618f0329
X-WR-CALDESC:\nis an ongoing class for Central Oregon parents with children
  between the ages of 5-12 years old -- This is a year-round open enrollmen
 t class\, enter anytime!\n\nYou'll learn positive parenting strategies and
  parent with less stress and more FUN.\n\nFulfills mandated client require
 ment.\n\nYou will receive a certificate after 12 consecutive weeks of part
 icipation.\n\nCost: $Free\n\nCall to register & get started!
X-WR-RELCALID:4feedb431522d4005cb268531e42dced
X-WR-TIMEZONE:America/Los_Angeles
BEGIN:VTIMEZONE
TZID:America/Los_Angeles
BEGIN:STANDARD
TZNAME:PST
DTSTART:20231105T020000
TZOFFSETFROM:-0700
TZOFFSETTO:-0800
RDATE:20241103T020000
END:STANDARD
BEGIN:DAYLIGHT
TZNAME:PDT
DTSTART:20230312T020000
TZOFFSETFROM:-0800
TZOFFSETTO:-0700
RDATE:20240310T020000
RDATE:20250309T020000
END:DAYLIGHT
END:VTIMEZONE
BEGIN:VEVENT
UID:28e168fa-5f25-4f73-be70-6aad61c1a8e5
DTSTAMP:20260420T204925Z
DESCRIPTION:\nis an ongoing class for Central Oregon parents with children 
 between the ages of 5-12 years old -- This is a year-round open enrollment
  class\, enter anytime!\n\nYou'll learn positive parenting strategies and 
 parent with less stress and more FUN.\n\nFulfills mandated client requirem
 ent.\n\nYou will receive a certificate after 12 consecutive weeks of parti
 cipation.\n\nCost: $Free\n\nCall to register & get started!
DTSTART;TZID=America/Los_Angeles:20240109T173000
DTEND;TZID=America/Los_Angeles:20240109T193000
LOCATION:Via Zoom
SUMMARY:Nurturing Parenting School Age 5-12 years old
END:VEVENT
END:VCALENDAR
