BEGIN:VCALENDAR
VERSION:2.0
PRODID:-//frconline.org//NONSGML kigkonsult.se iCalcreator 2.30.10//
CALSCALE:GREGORIAN
METHOD:PUBLISH
UID:a1ffdf8e-4060-45ef-94bb-00f6606cffb8
X-WR-CALDESC:A free program for parents and youth ages 10-14. Learn how to 
 strengthen family relationships and increase positive communication with y
 our family members. Kids learn how to resist peer pressure and better comm
 unicate with care takers with fun\, interactive games.
X-WR-RELCALID:dc1281ceea5e60a395c27acbd6c261d2
X-WR-TIMEZONE:America/Los_Angeles
BEGIN:VTIMEZONE
TZID:America/Los_Angeles
BEGIN:STANDARD
TZNAME:PST
DTSTART:20221106T020000
TZOFFSETFROM:-0700
TZOFFSETTO:-0800
RDATE:20231105T020000
RDATE:20241103T020000
END:STANDARD
BEGIN:DAYLIGHT
TZNAME:PDT
DTSTART:20230312T020000
TZOFFSETFROM:-0800
TZOFFSETTO:-0700
RDATE:20240310T020000
RDATE:20250309T020000
END:DAYLIGHT
END:VTIMEZONE
BEGIN:VEVENT
UID:3fe66f16-4adf-49e4-9ce3-48dec5b5e97d
DTSTAMP:20260421T012558Z
DESCRIPTION:A free program for parents and youth ages 10-14. Learn how to s
 trengthen family relationships and increase positive communication with yo
 ur family members. Kids learn how to resist peer pressure and better commu
 nicate with care takers with fun\, interactive games.
DTSTART;TZID=America/Los_Angeles:20231023T180000
DTEND;TZID=America/Los_Angeles:20231023T200000
LOCATION:16360 First St\, La Pine\, OR 97739 US
SUMMARY:Strengthening Families
END:VEVENT
END:VCALENDAR
