BEGIN:VCALENDAR
VERSION:2.0
PRODID:-//frconline.org//NONSGML kigkonsult.se iCalcreator 2.30.10//
CALSCALE:GREGORIAN
METHOD:PUBLISH
UID:2bcc312f-7381-4858-8924-ce2325332162
X-WR-CALDESC:\nis an ongoing class for Central Oregon parents with children
  between the ages of 5-12 years old -- This is a year-round open enrollmen
 t class\, enter anytime!\n\nYou'll learn positive parenting strategies and
  parent with less stress and more FUN.\n\nFulfills mandated client require
 ment.\n\nYou will receive a certificate after 12 consecutive weeks of part
 icipation.\n\nCost: $Free\n\nCall to register & get started!
X-WR-RELCALID:dc1644609fb2f01aac09b9589663d968
X-WR-TIMEZONE:America/Los_Angeles
BEGIN:VTIMEZONE
TZID:America/Los_Angeles
BEGIN:STANDARD
TZNAME:PST
DTSTART:20221106T020000
TZOFFSETFROM:-0700
TZOFFSETTO:-0800
RDATE:20231105T020000
RDATE:20241103T020000
END:STANDARD
BEGIN:DAYLIGHT
TZNAME:PDT
DTSTART:20230312T020000
TZOFFSETFROM:-0800
TZOFFSETTO:-0700
RDATE:20240310T020000
RDATE:20250309T020000
END:DAYLIGHT
END:VTIMEZONE
BEGIN:VEVENT
UID:98b8538d-64bc-4c3d-b573-3901b56b92aa
DTSTAMP:20260421T011905Z
DESCRIPTION:\nis an ongoing class for Central Oregon parents with children 
 between the ages of 5-12 years old -- This is a year-round open enrollment
  class\, enter anytime!\n\nYou'll learn positive parenting strategies and 
 parent with less stress and more FUN.\n\nFulfills mandated client requirem
 ent.\n\nYou will receive a certificate after 12 consecutive weeks of parti
 cipation.\n\nCost: $Free\n\nCall to register & get started!
DTSTART;TZID=America/Los_Angeles:20231003T173000
DTEND;TZID=America/Los_Angeles:20231003T193000
LOCATION:Via Zoom
SUMMARY:Nurturing Parenting School Age 5-12 years old
END:VEVENT
END:VCALENDAR
