BEGIN:VCALENDAR
VERSION:2.0
PRODID:-//frconline.org//NONSGML kigkonsult.se iCalcreator 2.30.10//
CALSCALE:GREGORIAN
METHOD:PUBLISH
UID:e69a7eee-f3fc-4731-b7e1-f39f411054b9
X-WR-CALDESC:Keep Standard is for foster parents with children 4-12 years o
 ld. \nKEEP foster parent support groups provide foster parents a welcome p
 lace to share experiences\, get tips and strategies\, and most importantly
  the support that is critical in this frequently stressful role
X-WR-RELCALID:cf81aeeb68d076eb245d7678acd36ba1
X-WR-TIMEZONE:America/Los_Angeles
BEGIN:VTIMEZONE
TZID:America/Los_Angeles
BEGIN:STANDARD
TZNAME:PST
DTSTART:20221106T020000
TZOFFSETFROM:-0700
TZOFFSETTO:-0800
RDATE:20231105T020000
RDATE:20241103T020000
END:STANDARD
BEGIN:DAYLIGHT
TZNAME:PDT
DTSTART:20230312T020000
TZOFFSETFROM:-0800
TZOFFSETTO:-0700
RDATE:20240310T020000
RDATE:20250309T020000
END:DAYLIGHT
END:VTIMEZONE
BEGIN:VEVENT
UID:44b7fa7f-dfc2-4939-bdbe-beef2add2ec2
DTSTAMP:20260421T030537Z
DESCRIPTION:Keep Standard is for foster parents with children 4-12 years ol
 d. \nKEEP foster parent support groups provide foster parents a welcome pl
 ace to share experiences\, get tips and strategies\, and most importantly 
 the support that is critical in this frequently stressful role
DTSTART;TZID=America/Los_Angeles:20230927T180000
DTEND;TZID=America/Los_Angeles:20230927T193000
LOCATION:Zoom
SUMMARY:KEEP Standard
END:VEVENT
END:VCALENDAR
