BEGIN:VCALENDAR
VERSION:2.0
PRODID:-//frconline.org//NONSGML kigkonsult.se iCalcreator 2.30.10//
CALSCALE:GREGORIAN
METHOD:PUBLISH
UID:c4a4a394-c8c1-48e5-a08c-7eea29b70d95
X-WR-CALDESC:Improve communication with your teen. Learn about social media
  and technology and how to approach it. Discuss teen brain development and
  how it affects their decision making and much more. For parents with chil
 dren ages 10-17. Where: Zoom Cost: Free
X-WR-RELCALID:2e0d52f68ca46c1f8061539e7bd2e553
X-WR-TIMEZONE:America/Los_Angeles
BEGIN:VTIMEZONE
TZID:America/Los_Angeles
BEGIN:STANDARD
TZNAME:PST
DTSTART:20221106T020000
TZOFFSETFROM:-0700
TZOFFSETTO:-0800
RDATE:20231105T020000
RDATE:20241103T020000
END:STANDARD
BEGIN:DAYLIGHT
TZNAME:PDT
DTSTART:20230312T020000
TZOFFSETFROM:-0800
TZOFFSETTO:-0700
RDATE:20240310T020000
END:DAYLIGHT
END:VTIMEZONE
BEGIN:VEVENT
UID:a2720136-d90f-4c3f-aac0-6a606e9a3074
DTSTAMP:20260421T045728Z
DESCRIPTION:Improve communication with your teen. Learn about social media 
 and technology and how to approach it. Discuss teen brain development and 
 how it affects their decision making and much more. For parents with child
 ren ages 10-17. Where: Zoom Cost: Free
DTSTART;TZID=America/Los_Angeles:20230814T180000
DTEND;TZID=America/Los_Angeles:20230814T200000
LOCATION:Via Zoom
SUMMARY:Active Parenting of Teens
END:VEVENT
END:VCALENDAR
