BEGIN:VCALENDAR
VERSION:2.0
PRODID:-//frconline.org//NONSGML kigkonsult.se iCalcreator 2.30.10//
CALSCALE:GREGORIAN
METHOD:PUBLISH
UID:6759a848-2ae9-4366-8a0d-82e0aeacec9c
X-WR-CALDESC:The Family Law Education Program was created to help families 
 navigate through restructure and be more prepared to co-parent\, so they c
 an better support their children's physical\, social\, emotional\, and beh
 avioral well-being. The session will discuss ways to build or maintain a p
 ositive relationship with the co-parent and will provide a brief overview 
 of the legal process and parenting plan.\n\nThe Family Law Education Progr
 am is now offered as a Zoom class for parents in Deschutes County experien
 cing family restructuring such as a separation or divorce.
X-WR-RELCALID:5492678ab5189366ae039ddab96c77cd
X-WR-TIMEZONE:America/Los_Angeles
BEGIN:VTIMEZONE
TZID:America/Los_Angeles
BEGIN:STANDARD
TZNAME:PST
DTSTART:20221106T020000
TZOFFSETFROM:-0700
TZOFFSETTO:-0800
RDATE:20231105T020000
RDATE:20241103T020000
END:STANDARD
BEGIN:DAYLIGHT
TZNAME:PDT
DTSTART:20230312T020000
TZOFFSETFROM:-0800
TZOFFSETTO:-0700
RDATE:20240310T020000
END:DAYLIGHT
END:VTIMEZONE
BEGIN:VEVENT
UID:7bee9e07-56cf-4f05-be13-28e83312401a
DTSTAMP:20260421T045041Z
DESCRIPTION:The Family Law Education Program was created to help families n
 avigate through restructure and be more prepared to co-parent\, so they ca
 n better support their children's physical\, social\, emotional\, and beha
 vioral well-being. The session will discuss ways to build or maintain a po
 sitive relationship with the co-parent and will provide a brief overview o
 f the legal process and parenting plan.\n\nThe Family Law Education Progra
 m is now offered as a Zoom class for parents in Deschutes County experienc
 ing family restructuring such as a separation or divorce.
DTSTART;TZID=America/Los_Angeles:20230803T080000
DTEND;TZID=America/Los_Angeles:20230803T120000
LOCATION:Zoom
SUMMARY:Family Law Education Program
END:VEVENT
END:VCALENDAR
