BEGIN:VCALENDAR
VERSION:2.0
PRODID:-//frconline.org//NONSGML kigkonsult.se iCalcreator 2.30.10//
CALSCALE:GREGORIAN
METHOD:PUBLISH
UID:265dc12f-751e-432d-aa80-0e825507ee0e
X-WR-CALDESC:Keep Standard is for foster parents with children 4-12 years o
 ld. \nKEEP foster parent support groups provide foster parents a welcome p
 lace to share experiences\, get tips and strategies\, and most importantly
  the support that is critical in this frequently stressful role
X-WR-RELCALID:425f1a0d251b6abc7c2c6fd496cec4a5
X-WR-TIMEZONE:America/Los_Angeles
BEGIN:VTIMEZONE
TZID:America/Los_Angeles
BEGIN:STANDARD
TZNAME:PST
DTSTART:20221106T020000
TZOFFSETFROM:-0700
TZOFFSETTO:-0800
RDATE:20231105T020000
RDATE:20241103T020000
END:STANDARD
BEGIN:DAYLIGHT
TZNAME:PDT
DTSTART:20230312T020000
TZOFFSETFROM:-0800
TZOFFSETTO:-0700
RDATE:20240310T020000
END:DAYLIGHT
END:VTIMEZONE
BEGIN:VEVENT
UID:14a94b89-fcb0-40a0-ad32-021f2c08cd50
DTSTAMP:20260421T045128Z
DESCRIPTION:Keep Standard is for foster parents with children 4-12 years ol
 d. \nKEEP foster parent support groups provide foster parents a welcome pl
 ace to share experiences\, get tips and strategies\, and most importantly 
 the support that is critical in this frequently stressful role
DTSTART;TZID=America/Los_Angeles:20230802T180000
DTEND;TZID=America/Los_Angeles:20230802T193000
LOCATION:Zoom
SUMMARY:KEEP Standard
END:VEVENT
END:VCALENDAR
