BEGIN:VCALENDAR
VERSION:2.0
PRODID:-//frconline.org//NONSGML kigkonsult.se iCalcreator 2.30.10//
CALSCALE:GREGORIAN
METHOD:PUBLISH
UID:543417e2-aa1e-4be8-ab53-3c92cf7fc0dc
X-WR-CALDESC:Have you ever wondered how you can be more consistent and resp
 onse to better support your child's unique self... or maybe how to have a 
 positive influence on your child's behavior? -->\nThen this is the group f
 or you!\nJoin other parents and learn to use your values and goals to help
  your family thrive.\n\nFor parents with children newborn through age 8.\n
 \nWhen: Wednesday's May 31st - August 2nd\, 2023 5:30-7:30 PM\nWhere: Oreg
 on Child Development Coalition\, 659 NE A Street\, Madras\nCost: Free! - D
 inner & Childcare provided!
X-WR-RELCALID:b031c3b8599af1089d5f9d78a32aacfd
X-WR-TIMEZONE:America/Los_Angeles
BEGIN:VTIMEZONE
TZID:America/Los_Angeles
BEGIN:STANDARD
TZNAME:PST
DTSTART:20221106T020000
TZOFFSETFROM:-0700
TZOFFSETTO:-0800
RDATE:20231105T020000
RDATE:20241103T020000
END:STANDARD
BEGIN:DAYLIGHT
TZNAME:PDT
DTSTART:20230312T020000
TZOFFSETFROM:-0800
TZOFFSETTO:-0700
RDATE:20240310T020000
END:DAYLIGHT
END:VTIMEZONE
BEGIN:VEVENT
UID:43e73708-1a9d-4222-be61-6e136f4e55ed
DTSTAMP:20260421T045439Z
DESCRIPTION:Have you ever wondered how you can be more consistent and respo
 nse to better support your child's unique self... or maybe how to have a p
 ositive influence on your child's behavior? -->\nThen this is the group fo
 r you!\nJoin other parents and learn to use your values and goals to help 
 your family thrive.\n\nFor parents with children newborn through age 8.\n
 \nWhen: Wednesday's May 31st - August 2nd\, 2023 5:30-7:30 PM\nWhere: Oreg
 on Child Development Coalition\, 659 NE A Street\, Madras\nCost: Free! - D
 inner & Childcare provided!
DTSTART;TZID=America/Los_Angeles:20230802T173000
DTEND;TZID=America/Los_Angeles:20230802T193000
LOCATION:659 NE A Street\, Madras\, OR 97741 US
SUMMARY:Make Parenting a Pleasure
END:VEVENT
END:VCALENDAR
