BEGIN:VCALENDAR
VERSION:2.0
PRODID:-//frconline.org//NONSGML kigkonsult.se iCalcreator 2.30.10//
CALSCALE:GREGORIAN
METHOD:PUBLISH
UID:2bc448ac-54ec-44f0-9d49-3449d82c186c
X-WR-CALDESC:Have you ever wondered how you can be more consistent and resp
 onse to better support your child's unique self... or maybe how to have a 
 positive influence on your child's behavior? -->\nThen this is the group f
 or you!\nJoin other parents and learn to use your values and goals to help
  your family thrive.\n\nFor parents with children newborn through age 8.\n
 \nWhen: Wednesday's May 31st - August 2nd\, 2023 5:30-7:30 PM\nWhere: Oreg
 on Child Development Coalition\, 659 NE A Street\, Madras\nCost: Free! - D
 inner & Childcare provided!
X-WR-RELCALID:b7c30d0a0d7444db617040368a154ae1
X-WR-TIMEZONE:America/Los_Angeles
BEGIN:VTIMEZONE
TZID:America/Los_Angeles
BEGIN:STANDARD
TZNAME:PST
DTSTART:20221106T020000
TZOFFSETFROM:-0700
TZOFFSETTO:-0800
RDATE:20231105T020000
RDATE:20241103T020000
END:STANDARD
BEGIN:DAYLIGHT
TZNAME:PDT
DTSTART:20230312T020000
TZOFFSETFROM:-0800
TZOFFSETTO:-0700
RDATE:20240310T020000
END:DAYLIGHT
END:VTIMEZONE
BEGIN:VEVENT
UID:8c39d6db-3100-4cbf-9da7-951ddadb2da1
DTSTAMP:20260421T064252Z
DESCRIPTION:Have you ever wondered how you can be more consistent and respo
 nse to better support your child's unique self... or maybe how to have a p
 ositive influence on your child's behavior? -->\nThen this is the group fo
 r you!\nJoin other parents and learn to use your values and goals to help 
 your family thrive.\n\nFor parents with children newborn through age 8.\n
 \nWhen: Wednesday's May 31st - August 2nd\, 2023 5:30-7:30 PM\nWhere: Oreg
 on Child Development Coalition\, 659 NE A Street\, Madras\nCost: Free! - D
 inner & Childcare provided!
DTSTART;TZID=America/Los_Angeles:20230719T173000
DTEND;TZID=America/Los_Angeles:20230719T193000
LOCATION:659 NE A Street\, Madras\, OR 97741 US
SUMMARY:Make Parenting a Pleasure
END:VEVENT
END:VCALENDAR
