BEGIN:VCALENDAR
VERSION:2.0
PRODID:-//frconline.org//NONSGML kigkonsult.se iCalcreator 2.30.10//
CALSCALE:GREGORIAN
METHOD:PUBLISH
UID:1cbdf415-0d96-4302-87dd-19380c7003b4
X-WR-CALDESC:For families with youth ages 10-17 years old. \nLearn about:\n
 -Technology & social media\n-How brain development affects teen behavior a
 nd decision-making\n-Improve communication & more!\n\nWhen: Monday's 6:00-
 8:00pm\nWhere: Zoom\nCost: Free
X-WR-RELCALID:55c47570756d3ae80a2a25ed0079a0ef
X-WR-TIMEZONE:America/Los_Angeles
BEGIN:VTIMEZONE
TZID:America/Los_Angeles
BEGIN:STANDARD
TZNAME:PST
DTSTART:20221106T020000
TZOFFSETFROM:-0700
TZOFFSETTO:-0800
RDATE:20231105T020000
RDATE:20241103T020000
END:STANDARD
BEGIN:DAYLIGHT
TZNAME:PDT
DTSTART:20230312T020000
TZOFFSETFROM:-0800
TZOFFSETTO:-0700
RDATE:20240310T020000
END:DAYLIGHT
END:VTIMEZONE
BEGIN:VEVENT
UID:50e858aa-9755-40e9-973e-0ea270af8cea
DTSTAMP:20260421T064333Z
DESCRIPTION:For families with youth ages 10-17 years old. \nLearn about:\n-
 Technology & social media\n-How brain development affects teen behavior an
 d decision-making\n-Improve communication & more!\n\nWhen: Monday's 6:00-8
 :00pm\nWhere: Zoom\nCost: Free
DTSTART;TZID=America/Los_Angeles:20230703T180000
DTEND;TZID=America/Los_Angeles:20230703T200000
LOCATION:Zoom
SUMMARY:Active Parenting of Teens
END:VEVENT
END:VCALENDAR
