BEGIN:VCALENDAR
VERSION:2.0
PRODID:-//frconline.org//NONSGML kigkonsult.se iCalcreator 2.30.10//
CALSCALE:GREGORIAN
METHOD:PUBLISH
UID:04f645b6-e799-4804-8490-ad9e844896a2
X-WR-CALDESC:During this workshop\, parents of incoming kindergarteners wil
 l receive invaluable information on educational rights\, effective communi
 cation strategies\, and an introduction to academic plans tailored to thei
 r child's needs. Additionally\, we are excited to offer a free handbook fo
 r parents and a surprise activity package for children\, for anyone who in
 dicates their interest during registration.\n \nPlease mark your calendars
  for the session dates:\nEnglish session: Thursday\, June 22nd\, 2023\nSpa
 nish session: Friday\, June 23rd\, 2023\nBoth sessions will be held from 4
 :00 pm to 6:00 pm Pacific Time (US and Canada). \nThe registration deadlin
 e is Monday\, June 12th\, 2023\, at 5:00 pm.
X-WR-RELCALID:f6633f4641f69d910b5eae13ec32fa15
X-WR-TIMEZONE:America/Los_Angeles
BEGIN:VTIMEZONE
TZID:America/Los_Angeles
BEGIN:STANDARD
TZNAME:PST
DTSTART:20221106T020000
TZOFFSETFROM:-0700
TZOFFSETTO:-0800
RDATE:20231105T020000
RDATE:20241103T020000
END:STANDARD
BEGIN:DAYLIGHT
TZNAME:PDT
DTSTART:20230312T020000
TZOFFSETFROM:-0800
TZOFFSETTO:-0700
RDATE:20240310T020000
END:DAYLIGHT
END:VTIMEZONE
BEGIN:VEVENT
UID:09f23ec9-173d-434a-ad69-c1328e109a75
DTSTAMP:20260421T082109Z
DESCRIPTION:During this workshop\, parents of incoming kindergarteners will
  receive invaluable information on educational rights\, effective communic
 ation strategies\, and an introduction to academic plans tailored to their
  child's needs. Additionally\, we are excited to offer a free handbook for
  parents and a surprise activity package for children\, for anyone who ind
 icates their interest during registration.\n \nPlease mark your calendars 
 for the session dates:\nEnglish session: Thursday\, June 22nd\, 2023\nSpan
 ish session: Friday\, June 23rd\, 2023\nBoth sessions will be held from 4:
 00 pm to 6:00 pm Pacific Time (US and Canada). \nThe registration deadline
  is Monday\, June 12th\, 2023\, at 5:00 pm.
DTSTART;TZID=America/Los_Angeles:20230622T160000
DTEND;TZID=America/Los_Angeles:20230622T180000
LOCATION:Zoom
SUMMARY:Empowering Parents & Families - English
END:VEVENT
END:VCALENDAR
