BEGIN:VCALENDAR
VERSION:2.0
PRODID:-//frconline.org//NONSGML kigkonsult.se iCalcreator 2.30.10//
CALSCALE:GREGORIAN
METHOD:PUBLISH
UID:d5455ef4-bcdb-4029-9104-72c7c320728c
X-WR-CALDESC:Vengan en compañia de su familia para aprender como cultivar s
 u propias vegetales. \nVamos a tener una rifa para lost primeros 35 person
 as que asistan. En este evento todo lo que ocupa para plantar aquí lo vamo
 s a tener y lo que planta se lo lleva.
X-WR-RELCALID:5d4e8c8ffcc5e8f4d5016c5b95f4ecd1
X-WR-TIMEZONE:America/Los_Angeles
BEGIN:VTIMEZONE
TZID:America/Los_Angeles
BEGIN:STANDARD
TZNAME:PST
DTSTART:20221106T020000
TZOFFSETFROM:-0700
TZOFFSETTO:-0800
RDATE:20231105T020000
RDATE:20241103T020000
END:STANDARD
BEGIN:DAYLIGHT
TZNAME:PDT
DTSTART:20230312T020000
TZOFFSETFROM:-0800
TZOFFSETTO:-0700
RDATE:20240310T020000
END:DAYLIGHT
END:VTIMEZONE
BEGIN:VEVENT
UID:10533a20-1738-49fb-9dd0-57df4db4d4f4
DTSTAMP:20260421T094642Z
DESCRIPTION:Vengan en compañia de su familia para aprender como cultivar su
  propias vegetales. \nVamos a tener una rifa para lost primeros 35 persona
 s que asistan. En este evento todo lo que ocupa para plantar aquí lo vamos
  a tener y lo que planta se lo lleva.
DTSTART;TZID=America/Los_Angeles:20230524T163000
DTEND;TZID=America/Los_Angeles:20230524T183000
LOCATION:Sahalee Park\, SE 7th St\, Madras\, OR 97741 US
SUMMARY:Festival Cultivo
END:VEVENT
END:VCALENDAR
