BEGIN:VCALENDAR
VERSION:2.0
PRODID:-//frconline.org//NONSGML kigkonsult.se iCalcreator 2.30.10//
CALSCALE:GREGORIAN
METHOD:PUBLISH
UID:d103eb7b-a589-4c59-8e3a-3e8a4b48f45a
X-WR-CALDESC:Fun\, interactive games and activities for families! Parents o
 f youth ages 10-14 years old will enjoy FREE family activities\, childcare
 \, and dinner. \n\nYou will:\n-Strengthen family relationships\n-Increase 
 positive communication \n-Resist peer pressure
X-WR-RELCALID:d8e017f54d9adcc12e76434b5831514b
X-WR-TIMEZONE:America/Los_Angeles
BEGIN:VTIMEZONE
TZID:America/Los_Angeles
BEGIN:STANDARD
TZNAME:PST
DTSTART:20221106T020000
TZOFFSETFROM:-0700
TZOFFSETTO:-0800
RDATE:20231105T020000
END:STANDARD
BEGIN:DAYLIGHT
TZNAME:PDT
DTSTART:20230312T020000
TZOFFSETFROM:-0800
TZOFFSETTO:-0700
RDATE:20240310T020000
END:DAYLIGHT
END:VTIMEZONE
BEGIN:VEVENT
UID:c94e7ee1-b3cb-4330-931c-dfeeb86deaac
DTSTAMP:20260421T095335Z
DESCRIPTION:Fun\, interactive games and activities for families! Parents of
  youth ages 10-14 years old will enjoy FREE family activities\, childcare\
 , and dinner. \n\nYou will:\n-Strengthen family relationships\n-Increase p
 ositive communication \n-Resist peer pressure
DTSTART;TZID=America/Los_Angeles:20230501T180000
DTEND;TZID=America/Los_Angeles:20230501T200000
LOCATION:La Pine Middle School \, 16360 1st St\, La Pine\, OR 97739 US
SUMMARY:Strengthening Families Program
END:VEVENT
END:VCALENDAR
