BEGIN:VCALENDAR
VERSION:2.0
PRODID:-//frconline.org//NONSGML kigkonsult.se iCalcreator 2.30.10//
CALSCALE:GREGORIAN
METHOD:PUBLISH
UID:a1f811da-64bc-47df-89b1-199d6db0b1f6
X-WR-CALDESC:An evening of community resources\, games\, food\, and family 
 activities! \nFREE!\n\nNo Registration required
X-WR-RELCALID:fe3b137036cc3de159747da623e766dd
X-WR-TIMEZONE:America/Los_Angeles
BEGIN:VTIMEZONE
TZID:America/Los_Angeles
BEGIN:STANDARD
TZNAME:PST
DTSTART:20221106T020000
TZOFFSETFROM:-0700
TZOFFSETTO:-0800
RDATE:20231105T020000
END:STANDARD
BEGIN:DAYLIGHT
TZNAME:PDT
DTSTART:20230312T020000
TZOFFSETFROM:-0800
TZOFFSETTO:-0700
RDATE:20240310T020000
END:DAYLIGHT
END:VTIMEZONE
BEGIN:VEVENT
UID:5a83dce5-0c7b-43c3-9b83-1ea019d71fa5
DTSTAMP:20260421T113244Z
DESCRIPTION:An evening of community resources\, games\, food\, and family a
 ctivities! \nFREE!\n\nNo Registration required
DTSTART;TZID=America/Los_Angeles:20230427T170000
DTEND;TZID=America/Los_Angeles:20230427T183000
LOCATION:50 Chukan Road\, Warm Springs\, OR 97761 US
SUMMARY:Family Summit: Warm Springs
END:VEVENT
END:VCALENDAR
