BEGIN:VCALENDAR
VERSION:2.0
PRODID:-//frconline.org//NONSGML kigkonsult.se iCalcreator 2.30.10//
CALSCALE:GREGORIAN
METHOD:PUBLISH
UID:2032f195-e19e-4065-9132-969bae0a0a39
X-WR-CALDESC:-A SUPPORT group not a class!\n-For foster parents caring for 
 adolescents ages 13-18 years old\n-A group of 7-12 foster/kinship parents 
 and two trained group leaders\n-A time to connect with other foster parent
 s and kinship families\n-You will receive a $25 check for each remote sess
 ion attended per household\n-You can earn up to 24 foster parent training 
 hours toward DHS certification\n\nCall Rosa at 541-389-5468 to reserve you
 r spot today!\nAll DHS-certified foster parents and kinship families can j
 oin!
X-WR-RELCALID:24c01a7821188934f53edfdf57bac234
X-WR-TIMEZONE:America/Los_Angeles
BEGIN:VTIMEZONE
TZID:America/Los_Angeles
BEGIN:STANDARD
TZNAME:PST
DTSTART:20221106T020000
TZOFFSETFROM:-0700
TZOFFSETTO:-0800
RDATE:20231105T020000
END:STANDARD
BEGIN:DAYLIGHT
TZNAME:PDT
DTSTART:20230312T020000
TZOFFSETFROM:-0800
TZOFFSETTO:-0700
RDATE:20240310T020000
END:DAYLIGHT
END:VTIMEZONE
BEGIN:VEVENT
UID:a0b8d9f4-c347-4226-b6ac-13c37e84ba3b
DTSTAMP:20260421T111715Z
DESCRIPTION:-A SUPPORT group not a class!\n-For foster parents caring for a
 dolescents ages 13-18 years old\n-A group of 7-12 foster/kinship parents a
 nd two trained group leaders\n-A time to connect with other foster parents
  and kinship families\n-You will receive a $25 check for each remote sessi
 on attended per household\n-You can earn up to 24 foster parent training h
 ours toward DHS certification\n\nCall Rosa at 541-389-5468 to reserve your
  spot today!\nAll DHS-certified foster parents and kinship families can jo
 in!
DTSTART;TZID=America/Los_Angeles:20230413T180000
DTEND;TZID=America/Los_Angeles:20230413T193000
LOCATION:Zoom
SUMMARY:KEEP Safe
END:VEVENT
END:VCALENDAR
