BEGIN:VCALENDAR
VERSION:2.0
PRODID:-//frconline.org//NONSGML kigkonsult.se iCalcreator 2.30.10//
CALSCALE:GREGORIAN
METHOD:PUBLISH
UID:afab9e4f-2281-49c5-8f3d-da926e452a21
X-WR-CALDESC:-A SUPPORT group not a class!\n-For foster parents caring for 
 adolescents ages 4-12 years old\n-A group of 7-12 foster/kinship parents a
 nd two trained group leaders\n-A time to connect with other foster parents
  and kinship families\n-You will receive a $25 check for each remote sessi
 on attended per household\n-You can earn up to 24 foster parent training h
 ours toward DHS certification\n\nCall Rosa at 541-389-5468 to reserve your
  spot today!\nAll DHS-certified foster parents and kinship families can jo
 in!
X-WR-RELCALID:96d4b70e827b941db8577a360c95f94a
X-WR-TIMEZONE:America/Los_Angeles
BEGIN:VTIMEZONE
TZID:America/Los_Angeles
BEGIN:STANDARD
TZNAME:PST
DTSTART:20221106T020000
TZOFFSETFROM:-0700
TZOFFSETTO:-0800
RDATE:20231105T020000
END:STANDARD
BEGIN:DAYLIGHT
TZNAME:PDT
DTSTART:20220313T020000
TZOFFSETFROM:-0800
TZOFFSETTO:-0700
RDATE:20230312T020000
RDATE:20240310T020000
END:DAYLIGHT
END:VTIMEZONE
BEGIN:VEVENT
UID:0707f236-903c-46de-a0bf-001a8bb65798
DTSTAMP:20260421T141941Z
DESCRIPTION:-A SUPPORT group not a class!\n-For foster parents caring for a
 dolescents ages 4-12 years old\n-A group of 7-12 foster/kinship parents an
 d two trained group leaders\n-A time to connect with other foster parents 
 and kinship families\n-You will receive a $25 check for each remote sessio
 n attended per household\n-You can earn up to 24 foster parent training ho
 urs toward DHS certification\n\nCall Rosa at 541-389-5468 to reserve your 
 spot today!\nAll DHS-certified foster parents and kinship families can joi
 n!
DTSTART;TZID=America/Los_Angeles:20230228T173000
DTEND;TZID=America/Los_Angeles:20230228T190000
LOCATION:Zoom
SUMMARY:KEEP Standard
END:VEVENT
END:VCALENDAR
