BEGIN:VCALENDAR
VERSION:2.0
PRODID:-//frconline.org//NONSGML kigkonsult.se iCalcreator 2.30.10//
CALSCALE:GREGORIAN
METHOD:PUBLISH
UID:d169adb8-f194-4a55-a0fd-a566fccac899
X-WR-CALDESC:Join us for FREE online workshop where you'll learn:\n- Concre
 te strategies for clear\, honest communication\n- How to be an encouraging
  parent to create harmony & stability in your family\n- Q&A time\n\nNote: 
 This is the first of a two workshop series. You can attend one\, or both! 
 They will cover different topics.
X-WR-RELCALID:cce392f9e9ac73fa9f4af0589530e5eb
X-WR-TIMEZONE:America/Los_Angeles
BEGIN:VTIMEZONE
TZID:America/Los_Angeles
BEGIN:STANDARD
TZNAME:PST
DTSTART:20221106T020000
TZOFFSETFROM:-0700
TZOFFSETTO:-0800
RDATE:20231105T020000
END:STANDARD
BEGIN:DAYLIGHT
TZNAME:PDT
DTSTART:20220313T020000
TZOFFSETFROM:-0800
TZOFFSETTO:-0700
RDATE:20230312T020000
RDATE:20240310T020000
END:DAYLIGHT
END:VTIMEZONE
BEGIN:VEVENT
UID:510f90d7-0647-441b-ba09-9efcd87505e3
DTSTAMP:20260421T141710Z
DESCRIPTION:Join us for FREE online workshop where you'll learn:\n- Concret
 e strategies for clear\, honest communication\n- How to be an encouraging 
 parent to create harmony & stability in your family\n- Q&A time\n\nNote: T
 his is the first of a two workshop series. You can attend one\, or both! T
 hey will cover different topics.
DTSTART;TZID=America/Los_Angeles:20230227T173000
DTEND;TZID=America/Los_Angeles:20230227T190000
LOCATION:Zoom
SUMMARY:Winning Cooperation Workshop
END:VEVENT
END:VCALENDAR
