BEGIN:VCALENDAR
VERSION:2.0
PRODID:-//frconline.org//NONSGML kigkonsult.se iCalcreator 2.30.10//
CALSCALE:GREGORIAN
METHOD:PUBLISH
UID:c138c5b8-32d2-4adf-86f5-ea67a44c0c62
X-WR-CALDESC:Imagine what it might feel like if you were able to make sense
  of what your child was really asking from you.\nHelp your child feel safe
 \, regulate their emotions\, and build their self-esteem.\n\nFor parents w
 ith children birth - 5 years.\n\nWhere: Madras\nCost: Free\nChildcare & Fo
 od Provided!\nCall to Register today!
X-WR-RELCALID:26d5f0a9a75eff0101fa58657bc60049
X-WR-TIMEZONE:America/Los_Angeles
BEGIN:VTIMEZONE
TZID:America/Los_Angeles
BEGIN:STANDARD
TZNAME:PST
DTSTART:20221106T020000
TZOFFSETFROM:-0700
TZOFFSETTO:-0800
RDATE:20231105T020000
END:STANDARD
BEGIN:DAYLIGHT
TZNAME:PDT
DTSTART:20220313T020000
TZOFFSETFROM:-0800
TZOFFSETTO:-0700
RDATE:20230312T020000
RDATE:20240310T020000
END:DAYLIGHT
END:VTIMEZONE
BEGIN:VEVENT
UID:e6c3f6c4-b15e-48e4-b2bc-0c9aea90486d
DTSTAMP:20260421T143828Z
DESCRIPTION:Imagine what it might feel like if you were able to make sense 
 of what your child was really asking from you.\nHelp your child feel safe\
 , regulate their emotions\, and build their self-esteem.\n\nFor parents wi
 th children birth - 5 years.\n\nWhere: Madras\nCost: Free\nChildcare & Foo
 d Provided!\nCall to Register today!
DTSTART;TZID=America/Los_Angeles:20230222T173000
DTEND;TZID=America/Los_Angeles:20230222T193000
LOCATION:To be Announced\, Madras\, OR 97741 US
SUMMARY:Circle of Security
END:VEVENT
END:VCALENDAR
