BEGIN:VCALENDAR
VERSION:2.0
PRODID:-//frconline.org//NONSGML kigkonsult.se iCalcreator 2.30.10//
CALSCALE:GREGORIAN
METHOD:PUBLISH
UID:2aa15c3b-9613-4d53-acd6-6d888c2f7d39
X-WR-CALDESC:Dates\nFirst Tuesday of the month 5:30 pm - 9:30 pm\nor the Fi
 rst Thursday of the month 8:00 am - 12:00 pm\n\nCost\n$70 per person (Incl
 udes $20 materials fee that cannot be waived)\n\nRegister:\nFor English sp
 eakers register by calling (541) 389-5468 (Option #1) with your case numbe
 r and method of payment\n\nFor Spanish speakers register with Rosa Cendeja
 s at (541) 604-2031 (Option #2) with your case number and method of paymen
 t
X-WR-RELCALID:c555d896f0fc2368f090e44e7980df58
X-WR-TIMEZONE:America/Los_Angeles
BEGIN:VTIMEZONE
TZID:America/Los_Angeles
BEGIN:STANDARD
TZNAME:PST
DTSTART:20221106T020000
TZOFFSETFROM:-0700
TZOFFSETTO:-0800
RDATE:20231105T020000
END:STANDARD
BEGIN:DAYLIGHT
TZNAME:PDT
DTSTART:20220313T020000
TZOFFSETFROM:-0800
TZOFFSETTO:-0700
RDATE:20230312T020000
RDATE:20240310T020000
END:DAYLIGHT
END:VTIMEZONE
BEGIN:VEVENT
UID:56bfa42e-f5aa-408b-88e3-930b84c466f4
DTSTAMP:20260421T142729Z
DESCRIPTION:Dates\nFirst Tuesday of the month 5:30 pm - 9:30 pm\nor the Fir
 st Thursday of the month 8:00 am - 12:00 pm\n\nCost\n$70 per person (Inclu
 des $20 materials fee that cannot be waived)\n\nRegister:\nFor English spe
 akers register by calling (541) 389-5468 (Option #1) with your case number
  and method of payment\n\nFor Spanish speakers register with Rosa Cendejas
  at (541) 604-2031 (Option #2) with your case number and method of payment
DTSTART;TZID=America/Los_Angeles:20230207T173000
DTEND;TZID=America/Los_Angeles:20230207T213000
LOCATION:Via Zoom
SUMMARY:Family Law Education Program
END:VEVENT
END:VCALENDAR
