BEGIN:VCALENDAR
VERSION:2.0
PRODID:-//frconline.org//NONSGML kigkonsult.se iCalcreator 2.30.10//
CALSCALE:GREGORIAN
METHOD:PUBLISH
UID:9975b862-07f3-4cba-ae95-4c0a716d0449
X-WR-CALDESC:Each year organizations gather for one day to provide informat
 ion on how you can make a difference in the community-become a volunteer. 
 Participating organizations include us\, and: \n\nâ€¢ Alzheimer's Associatio
 n\nâ€¢ American Red Cross\nâ€¢ Assistance League of Bend\nâ€¢ Bend Food Project
 \nânâ Bend-Redmond Habitat for Humanity\nâ€¢ Bethlehem Inn\nâ€¢ Camp Fire of Cen
 tral Oregon\nâ€¢ CASA\nâ€¢ Central Oregon\nVeterans Outreach\nâ€¢ Connect Centra
 l Oregon\nâ€¢ Council on Aging of Central Oregon\nâ€¢ Deschutes LandTrust\nâ€¢ D
 iscover Your Forest\nâ€¢ Family Resource Center\nâ€¢ Father's Group\nâ€¢ Healing
  Reins\nâ€¢ MountainStar Relief Nursery \nâ€¢ SMART Reading\nâ€¢ Stroke Awarenes
 s Oregon \nâ€¢ Volunteers in Medicine
X-WR-RELCALID:02716063ae861e08582cd7d612d864dc
X-WR-TIMEZONE:America/Los_Angeles
BEGIN:VTIMEZONE
TZID:America/Los_Angeles
BEGIN:STANDARD
TZNAME:PST
DTSTART:20221106T020000
TZOFFSETFROM:-0700
TZOFFSETTO:-0800
RDATE:20231105T020000
END:STANDARD
BEGIN:DAYLIGHT
TZNAME:PDT
DTSTART:20220313T020000
TZOFFSETFROM:-0800
TZOFFSETTO:-0700
RDATE:20230312T020000
RDATE:20240310T020000
END:DAYLIGHT
END:VTIMEZONE
BEGIN:VEVENT
UID:8ac59093-d63d-493d-a409-f79b7c06f6cb
DTSTAMP:20260421T154514Z
DESCRIPTION:Each year organizations gather for one day to provide informati
 on on how you can make a difference in the community-become a volunteer. P
 articipating organizations include us\, and: \n\nâ€¢ Alzheimer's Association
 \nânâ American Red Cross\nâ€¢ Assistance League of Bend\nâ€¢ Bend Food Project\n
 â€¢ Bend-Redmond Habitat for Humanity\nâ€¢ Bethlehem Inn\nâ€¢ Camp Fire of Centr
 al Oregon\nâ€¢ CASA\nâ€¢ Central Oregon\nVeterans Outreach\nâ€¢ Connect Central 
 Oregon\nâ€¢ Council on Aging of Central Oregon\nâ€¢ Deschutes LandTrust\nâ€¢ Dis
 cover Your Forest\nâ€¢ Family Resource Center\nâ€¢ Father's Group\nâ€¢ Healing R
 eins\nâ€¢ MountainStar Relief Nursery \nâ€¢ SMART Reading\nâ€¢ Stroke Awareness 
 Oregon \nâ€¢ Volunteers in Medicine
DTSTART;TZID=America/Los_Angeles:20230122T110000
DTEND;TZID=America/Los_Angeles:20230122T140000
LOCATION:Downtown Bend Library
SUMMARY:Volunteer Expo
END:VEVENT
END:VCALENDAR
