BEGIN:VCALENDAR
VERSION:2.0
PRODID:-//frconline.org//NONSGML kigkonsult.se iCalcreator 2.30.10//
CALSCALE:GREGORIAN
METHOD:PUBLISH
UID:a72c5bc5-11af-445e-8ce5-fc37419215e3
X-WR-CALDESC:Para familias con niños desde el nacimiento hasta los 8 años. 
 Este grupo de 12 semanas se enfoca en construir relaciones positivas con s
 us hijos: \n-Descubra cómo manejar el estrés de manera saludable\n-Aprenda
  las últimas ideas sobre el desarrolla infantil\n-Construya su caja de her
 ramientas para la disciplina positiva\n-Haga crecer su red de apoyo con ot
 ros padre\n\nCuando: 1:00-3:00pm\n12 de octubre al 14 de diciembre de 2022
 \nPara registrarse llamar al (541) 389-5468 opción 2\n\nLIBRE!\, Premios!
X-WR-RELCALID:481375c82949962fdcfc3c0e94b2d040
X-WR-TIMEZONE:America/Los_Angeles
BEGIN:VTIMEZONE
TZID:America/Los_Angeles
BEGIN:STANDARD
TZNAME:PST
DTSTART:20221106T020000
TZOFFSETFROM:-0700
TZOFFSETTO:-0800
RDATE:20231105T020000
END:STANDARD
BEGIN:DAYLIGHT
TZNAME:PDT
DTSTART:20220313T020000
TZOFFSETFROM:-0800
TZOFFSETTO:-0700
RDATE:20230312T020000
RDATE:20240310T020000
END:DAYLIGHT
END:VTIMEZONE
BEGIN:VEVENT
UID:b18eac82-8794-4e37-9b29-aa3ef18f2cf6
DTSTAMP:20260421T185913Z
DESCRIPTION:Para familias con niños desde el nacimiento hasta los 8 años. E
 ste grupo de 12 semanas se enfoca en construir relaciones positivas con su
 s hijos: \n-Descubra cómo manejar el estrés de manera saludable\n-Aprenda 
 las últimas ideas sobre el desarrolla infantil\n-Construya su caja de herr
 amientas para la disciplina positiva\n-Haga crecer su red de apoyo con otr
 os padre\n\nCuando: 1:00-3:00pm\n12 de octubre al 14 de diciembre de 2022
 \nPara registrarse llamar al (541) 389-5468 opción 2\n\nLIBRE!\, Premios!
DTSTART;TZID=America/Los_Angeles:20221123T130000
DTEND;TZID=America/Los_Angeles:20221123T150000
LOCATION:Ampliar
SUMMARY:Que La Crianza de sus Hijos Sea un Placer
END:VEVENT
END:VCALENDAR
