BEGIN:VCALENDAR
VERSION:2.0
PRODID:-//frconline.org//NONSGML kigkonsult.se iCalcreator 2.30.10//
CALSCALE:GREGORIAN
METHOD:PUBLISH
UID:3137dd62-14f5-41ba-9de4-2a5d07c74138
X-WR-CALDESC:-Even though littles are adorable - parents deserve a communit
 y of support. Join other parents and discover effective ways to manage str
 ess. \n-Learn the latest in child development Build your toolkit for posit
 ive parenting\n-10-weekly sessions for parents with children ages newborn 
 through age 8.\n\n*Door Prizes!*\nWhen: Wednesday's\nOct. 12 - Dec. 14\, 2
 022 5:30-7:30 PM \nWhere: Jefferson County Community Learning Center\,1180
  SE Kemper Way\nTo Register:\nCall 541-389-5468 # 2\n CHILDCARE\, DINNER &
  A BOOK! INCLUDED FREE!\n
X-WR-RELCALID:8116b736cd186f17b5df7814c8551dd9
X-WR-TIMEZONE:America/Los_Angeles
BEGIN:VTIMEZONE
TZID:America/Los_Angeles
BEGIN:STANDARD
TZNAME:PST
DTSTART:20221106T020000
TZOFFSETFROM:-0700
TZOFFSETTO:-0800
RDATE:20231105T020000
END:STANDARD
BEGIN:DAYLIGHT
TZNAME:PDT
DTSTART:20220313T020000
TZOFFSETFROM:-0800
TZOFFSETTO:-0700
RDATE:20230312T020000
RDATE:20240310T020000
END:DAYLIGHT
END:VTIMEZONE
BEGIN:VEVENT
UID:5df102d9-6fbf-4d1b-a0da-ab9bfa5ece2c
DTSTAMP:20260421T182717Z
DESCRIPTION:-Even though littles are adorable - parents deserve a community
  of support. Join other parents and discover effective ways to manage stre
 ss. \n-Learn the latest in child development Build your toolkit for positi
 ve parenting\n-10-weekly sessions for parents with children ages newborn t
 hrough age 8.\n\n*Door Prizes!*\nWhen: Wednesday's\nOct. 12 - Dec. 14\, 20
 22 5:30-7:30 PM \nWhere: Jefferson County Community Learning Center\,1180 
 SE Kemper Way\nTo Register:\nCall 541-389-5468 # 2\n CHILDCARE\, DINNER & 
 A BOOK! INCLUDED FREE!\n
DTSTART;TZID=America/Los_Angeles:20221109T173000
DTEND;TZID=America/Los_Angeles:20221109T193000
LOCATION:Jefferson County Community Learning Center\, 1180 SE Kemper Way\, 
 Madras\, OR 97741 US
SUMMARY:Making Parenting a Pleasure
END:VEVENT
END:VCALENDAR
