BEGIN:VCALENDAR
VERSION:2.0
PRODID:-//frconline.org//NONSGML kigkonsult.se iCalcreator 2.30.10//
CALSCALE:GREGORIAN
METHOD:PUBLISH
UID:67089f5e-659f-4b18-817c-bb970f0cda87
X-WR-CALDESC:Dates\nFirst Tuesday of the month 5:30 pm - 9:30 pm\nor the Fi
 rst Thursday of the month 8:00 am - 12:00 pm\n\nCost\n$70 per person (Incl
 udes $20 materials fee that cannot be waived)\n\nRegister:\nFor English sp
 eakers register by calling (541) 389-5468 (Option #1) with your case numbe
 r and method of payment\n\nFor Spanish speakers register with Rosa Cendeja
 s at (541) 604-2031 (Option #2) with your case number and method of paymen
 t
X-WR-RELCALID:6d95175ca16a40f140e4aa9194fcd76a
X-WR-TIMEZONE:America/Los_Angeles
BEGIN:VTIMEZONE
TZID:America/Los_Angeles
BEGIN:STANDARD
TZNAME:PST
DTSTART:20211107T020000
TZOFFSETFROM:-0700
TZOFFSETTO:-0800
RDATE:20221106T020000
RDATE:20231105T020000
END:STANDARD
BEGIN:DAYLIGHT
TZNAME:PDT
DTSTART:20220313T020000
TZOFFSETFROM:-0800
TZOFFSETTO:-0700
RDATE:20230312T020000
RDATE:20240310T020000
END:DAYLIGHT
END:VTIMEZONE
BEGIN:VEVENT
UID:a2898ec0-d714-48e9-b7ce-0e9391f15105
DTSTAMP:20260421T200706Z
DESCRIPTION:Dates\nFirst Tuesday of the month 5:30 pm - 9:30 pm\nor the Fir
 st Thursday of the month 8:00 am - 12:00 pm\n\nCost\n$70 per person (Inclu
 des $20 materials fee that cannot be waived)\n\nRegister:\nFor English spe
 akers register by calling (541) 389-5468 (Option #1) with your case number
  and method of payment\n\nFor Spanish speakers register with Rosa Cendejas
  at (541) 604-2031 (Option #2) with your case number and method of payment
DTSTART;TZID=America/Los_Angeles:20221006T080000
DTEND;TZID=America/Los_Angeles:20221006T120000
LOCATION:Via Zoom
SUMMARY:Family Law Education Program
END:VEVENT
END:VCALENDAR
