BEGIN:VCALENDAR
VERSION:2.0
PRODID:-//frconline.org//NONSGML kigkonsult.se iCalcreator 2.30.10//
CALSCALE:GREGORIAN
METHOD:PUBLISH
UID:11b0cac8-6ca2-4fac-bd6e-320279ef267f
X-WR-CALDESC:Imagine what it might feel like if you were able to make sense
  of what your child was really asking from you.\nHelp your child feel safe
 \, regulate their emotions\, and build their self-esteem.\n\nWhere: Zoom\n
 Cost: Free\nCall to Register today!
X-WR-RELCALID:e218c0542d0b9135762eda3ed0b9a717
X-WR-TIMEZONE:America/Los_Angeles
BEGIN:VTIMEZONE
TZID:America/Los_Angeles
BEGIN:STANDARD
TZNAME:PST
DTSTART:20211107T020000
TZOFFSETFROM:-0700
TZOFFSETTO:-0800
RDATE:20221106T020000
RDATE:20231105T020000
END:STANDARD
BEGIN:DAYLIGHT
TZNAME:PDT
DTSTART:20220313T020000
TZOFFSETFROM:-0800
TZOFFSETTO:-0700
RDATE:20230312T020000
RDATE:20240310T020000
END:DAYLIGHT
END:VTIMEZONE
BEGIN:VEVENT
UID:bfce45ad-cc0f-47bd-b6a0-0c79ece7840d
DTSTAMP:20260421T200319Z
DESCRIPTION:Imagine what it might feel like if you were able to make sense 
 of what your child was really asking from you.\nHelp your child feel safe\
 , regulate their emotions\, and build their self-esteem.\n\nWhere: Zoom\nC
 ost: Free\nCall to Register today!
DTSTART;TZID=America/Los_Angeles:20221004T173000
DTEND;TZID=America/Los_Angeles:20221004T193000
LOCATION:Zoom
SUMMARY:Circle of Security
END:VEVENT
END:VCALENDAR
