BEGIN:VCALENDAR
VERSION:2.0
PRODID:-//frconline.org//NONSGML kigkonsult.se iCalcreator 2.30.10//
CALSCALE:GREGORIAN
METHOD:PUBLISH
UID:cd1d5494-2b39-444a-a1b8-bcdee5033c0b
X-WR-CALDESC:-A SUPPORT group not a class!\n-A group of 7-12 foster/kinship
  parents and two trained group leaders\n-16 weekly 90-minute sessions\n-A 
 time to connect with other foster parents and kinship families\n-You will 
 receive a $25 check for each remote session attended per household\n-You c
 an earn up to 24 foster parent training hours toward DHS certification\n\n
 \nCall Rosa at 541-604-2031 or 541-389-5468 to reserve your spot today!\nA
 ll DHS-certified foster parents and kinship families can join!
X-WR-RELCALID:ce9fe75ab939247428af2b58cd1503b0
X-WR-TIMEZONE:America/Los_Angeles
BEGIN:VTIMEZONE
TZID:America/Los_Angeles
BEGIN:STANDARD
TZNAME:PST
DTSTART:20211107T020000
TZOFFSETFROM:-0700
TZOFFSETTO:-0800
RDATE:20221106T020000
RDATE:20231105T020000
END:STANDARD
BEGIN:DAYLIGHT
TZNAME:PDT
DTSTART:20220313T020000
TZOFFSETFROM:-0800
TZOFFSETTO:-0700
RDATE:20230312T020000
RDATE:20240310T020000
END:DAYLIGHT
END:VTIMEZONE
BEGIN:VEVENT
UID:c7c0fdff-f2fe-4c9c-b309-4c2c5f0821f2
DTSTAMP:20260421T214912Z
DESCRIPTION:-A SUPPORT group not a class!\n-A group of 7-12 foster/kinship 
 parents and two trained group leaders\n-16 weekly 90-minute sessions\n-A t
 ime to connect with other foster parents and kinship families\n-You will r
 eceive a $25 check for each remote session attended per household\n-You ca
 n earn up to 24 foster parent training hours toward DHS certification\n\n
 \nCall Rosa at 541-604-2031 or 541-389-5468 to reserve your spot today!\nA
 ll DHS-certified foster parents and kinship families can join!
DTSTART;TZID=America/Los_Angeles:20220926T180000
DTEND;TZID=America/Los_Angeles:20220926T193000
LOCATION:Zoom
SUMMARY:KEEP Standard
END:VEVENT
END:VCALENDAR
