BEGIN:VCALENDAR
VERSION:2.0
PRODID:-//frconline.org//NONSGML kigkonsult.se iCalcreator 2.30.10//
CALSCALE:GREGORIAN
METHOD:PUBLISH
UID:3a9806f7-9e97-4132-959b-1173aceb36b9
X-WR-CALDESC:STRATEGIES TO IMPROVE YOUR HEART HEALTH AND WELLBEING\nPresent
 ed by:\nAmy Chadwick RN\, BSN\, CPT Mywellnessrn.org\n\n•Basic knowledge o
 f the heart – how it works (and when it doesn’t) •Recognition of major sig
 ns of a heart attack\n•Understanding blood pressure and it's influencing f
 actors.\n•How exercise improves your cardiovascular health & emotional wel
 lbeing •What are heart healthy foods\n•Tips on incorporating heart healthy
  foods into your diet\n•The impact of stress on the heart and how to decom
 press •Mental/Emotional health and the effects on your cardiovascular syst
 em •Strategies to help you thrive\nJoin us on Zoom Join us on Zoom Wednesd
 ay\, Sept. 14th\n12:00 to 1:00pm \n(Q & A after) \nCall FRC at 541-389-546
 8 option 2 to register
X-WR-RELCALID:d12dd28e5406b4402e8820137631decc
X-WR-TIMEZONE:America/Los_Angeles
BEGIN:VTIMEZONE
TZID:America/Los_Angeles
BEGIN:STANDARD
TZNAME:PST
DTSTART:20211107T020000
TZOFFSETFROM:-0700
TZOFFSETTO:-0800
RDATE:20221106T020000
RDATE:20231105T020000
END:STANDARD
BEGIN:DAYLIGHT
TZNAME:PDT
DTSTART:20220313T020000
TZOFFSETFROM:-0800
TZOFFSETTO:-0700
RDATE:20230312T020000
RDATE:20240310T020000
END:DAYLIGHT
END:VTIMEZONE
BEGIN:VEVENT
UID:0fe02ca0-d62f-4127-8e6d-119aa02eb27b
DTSTAMP:20260421T214735Z
DESCRIPTION:STRATEGIES TO IMPROVE YOUR HEART HEALTH AND WELLBEING\nPresente
 d by:\nAmy Chadwick RN\, BSN\, CPT Mywellnessrn.org\n\n•Basic knowledge of
  the heart – how it works (and when it doesn’t) •Recognition of major sign
 s of a heart attack\n•Understanding blood pressure and it's influencing fa
 ctors.\n•How exercise improves your cardiovascular health & emotional well
 being •What are heart healthy foods\n•Tips on incorporating heart healthy 
 foods into your diet\n•The impact of stress on the heart and how to decomp
 ress •Mental/Emotional health and the effects on your cardiovascular syste
 m •Strategies to help you thrive\nJoin us on Zoom Join us on Zoom Wednesda
 y\, Sept. 14th\n12:00 to 1:00pm \n(Q & A after) \nCall FRC at 541-389-5468
  option 2 to register
DTSTART;TZID=America/Los_Angeles:20220914T120000
DTEND;TZID=America/Los_Angeles:20220914T130000
LOCATION:Via Zoom
SUMMARY:Family Wellness Lunch & Learns
END:VEVENT
END:VCALENDAR
