BEGIN:VCALENDAR
VERSION:2.0
PRODID:-//frconline.org//NONSGML kigkonsult.se iCalcreator 2.30.10//
CALSCALE:GREGORIAN
METHOD:PUBLISH
UID:071061ff-6644-4db3-a614-a8f6e9d51dbb
X-WR-CALDESC:For Central Oregon parents with children from birth through pr
 eschool. Learn positive parenting strategies and parent with less stress a
 nd more FUN!\n\nFulfills mandated client requirement.\n\nThis is an ongoin
 g class\, meaning you can join at any session. After 12 consecutive sessio
 ns\, you'll receive a certificate.\n\nCost: $Free\n\nCall to register & ge
 t started!
X-WR-RELCALID:a0bd07deeb5b5e229d749309136ce2b9
X-WR-TIMEZONE:America/Los_Angeles
BEGIN:VTIMEZONE
TZID:America/Los_Angeles
BEGIN:STANDARD
TZNAME:PST
DTSTART:20211107T020000
TZOFFSETFROM:-0700
TZOFFSETTO:-0800
RDATE:20221106T020000
RDATE:20231105T020000
END:STANDARD
BEGIN:DAYLIGHT
TZNAME:PDT
DTSTART:20220313T020000
TZOFFSETFROM:-0800
TZOFFSETTO:-0700
RDATE:20230312T020000
RDATE:20240310T020000
END:DAYLIGHT
END:VTIMEZONE
BEGIN:VEVENT
UID:495b78b9-6638-4c56-a78c-cee82cd8df75
DTSTAMP:20260421T214730Z
DESCRIPTION:For Central Oregon parents with children from birth through pre
 school. Learn positive parenting strategies and parent with less stress an
 d more FUN!\n\nFulfills mandated client requirement.\n\nThis is an ongoing
  class\, meaning you can join at any session. After 12 consecutive session
 s\, you'll receive a certificate.\n\nCost: $Free\n\nCall to register & get
  started!
DTSTART;TZID=America/Los_Angeles:20220914T100000
DTEND;TZID=America/Los_Angeles:20220914T113000
LOCATION:Zoom: Phone App\, Laptop\, Desktop
SUMMARY:Nurturing - The Early Years
END:VEVENT
END:VCALENDAR
