BEGIN:VCALENDAR
VERSION:2.0
PRODID:-//frconline.org//NONSGML kigkonsult.se iCalcreator 2.30.10//
CALSCALE:GREGORIAN
METHOD:PUBLISH
UID:e436d82f-2e89-4ee3-b750-6ad49bb218b2
X-WR-CALDESC:For families with youth ages 10-17\; this course covers:\n- Te
 chnology & Social Media\n- How brain development affects teen behavior and
  decision- making \n- Improve communication & more!\n\nWhen: Monday's. Aug
 ust 8th-September 19th (skips labor day)\nWhere: by Zoom
X-WR-RELCALID:2b416defd0be89fd5bf8a0985e0c582a
X-WR-TIMEZONE:America/Los_Angeles
BEGIN:VTIMEZONE
TZID:America/Los_Angeles
BEGIN:STANDARD
TZNAME:PST
DTSTART:20211107T020000
TZOFFSETFROM:-0700
TZOFFSETTO:-0800
RDATE:20221106T020000
RDATE:20231105T020000
END:STANDARD
BEGIN:DAYLIGHT
TZNAME:PDT
DTSTART:20220313T020000
TZOFFSETFROM:-0800
TZOFFSETTO:-0700
RDATE:20230312T020000
RDATE:20240310T020000
END:DAYLIGHT
END:VTIMEZONE
BEGIN:VEVENT
UID:d597efe4-253a-4a7f-a411-baa9c10a4a99
DTSTAMP:20260421T214903Z
DESCRIPTION:For families with youth ages 10-17\; this course covers:\n- Tec
 hnology & Social Media\n- How brain development affects teen behavior and 
 decision- making \n- Improve communication & more!\n\nWhen: Monday's. Augu
 st 8th-September 19th (skips labor day)\nWhere: by Zoom
DTSTART;TZID=America/Los_Angeles:20220912T130000
DTEND;TZID=America/Los_Angeles:20220912T150000
LOCATION:Zoom
SUMMARY:Active Parenting of Teens
END:VEVENT
END:VCALENDAR
