BEGIN:VCALENDAR
VERSION:2.0
PRODID:-//frconline.org//NONSGML kigkonsult.se iCalcreator 2.30.10//
CALSCALE:GREGORIAN
METHOD:PUBLISH
UID:7d9c4be8-9620-4612-a082-f99edeb1df21
X-WR-CALDESC:Order online at PandaExpress.com or through the App. Enter 340
 281 in the fundraiser code box\n\nOR\n\nBring in the paper flyer or take a
  picture of it on your smartphone.
X-WR-RELCALID:912a0a6e81134f7ee05714297590aced
X-WR-TIMEZONE:America/Los_Angeles
BEGIN:VTIMEZONE
TZID:America/Los_Angeles
BEGIN:STANDARD
TZNAME:PST
DTSTART:20211107T020000
TZOFFSETFROM:-0700
TZOFFSETTO:-0800
RDATE:20221106T020000
RDATE:20231105T020000
END:STANDARD
BEGIN:DAYLIGHT
TZNAME:PDT
DTSTART:20220313T020000
TZOFFSETFROM:-0800
TZOFFSETTO:-0700
RDATE:20230312T020000
RDATE:20240310T020000
END:DAYLIGHT
END:VTIMEZONE
BEGIN:VEVENT
UID:029fabf9-4dd2-45c4-a634-71238c979a85
DTSTAMP:20260421T214746Z
DESCRIPTION:Order online at PandaExpress.com or through the App. Enter 3402
 81 in the fundraiser code box\n\nOR\n\nBring in the paper flyer or take a 
 picture of it on your smartphone.
DTSTART;TZID=America/Los_Angeles:20220910T100000
DTEND;TZID=America/Los_Angeles:20220910T203000
LOCATION:63447 N Hwy 97\, Bend\, OR 97701 US
SUMMARY:Panda Express for Parents!
END:VEVENT
END:VCALENDAR
