BEGIN:VCALENDAR
VERSION:2.0
PRODID:-//frconline.org//NONSGML kigkonsult.se iCalcreator 2.30.10//
CALSCALE:GREGORIAN
METHOD:PUBLISH
UID:3fd579c5-bfb1-48fc-8873-e25b7e244937
X-WR-CALDESC:Make this Thursday pizza night! \n\n1) Order online or through
  the MOD app using the code: \nFUNDRAISER CODE: MODF9258\n\n2) Make sure y
 ou order from the right address (near Target)!: ADDRESS: 20516 Robal Rd\, 
 Suite 190 Bend\, OR 97701
X-WR-RELCALID:6d58d72a111a7adc8079d168c0437d7b
X-WR-TIMEZONE:America/Los_Angeles
BEGIN:VTIMEZONE
TZID:America/Los_Angeles
BEGIN:STANDARD
TZNAME:PST
DTSTART:20211107T020000
TZOFFSETFROM:-0700
TZOFFSETTO:-0800
RDATE:20221106T020000
RDATE:20231105T020000
END:STANDARD
BEGIN:DAYLIGHT
TZNAME:PDT
DTSTART:20220313T020000
TZOFFSETFROM:-0800
TZOFFSETTO:-0700
RDATE:20230312T020000
END:DAYLIGHT
END:VTIMEZONE
BEGIN:VEVENT
UID:ffb806b8-4a0a-40ef-84ae-fd8692f55166
DTSTAMP:20260421T215244Z
DESCRIPTION:Make this Thursday pizza night! \n\n1) Order online or through 
 the MOD app using the code: \nFUNDRAISER CODE: MODF9258\n\n2) Make sure yo
 u order from the right address (near Target)!: ADDRESS: 20516 Robal Rd\, S
 uite 190 Bend\, OR 97701
DTSTART;TZID=America/Los_Angeles:20220901T103000
DTEND;TZID=America/Los_Angeles:20220901T220000
LOCATION:20516 Robal Road\, Suite 190\, Bend\, OR 97701 US
SUMMARY:Pizza for Parents!
END:VEVENT
END:VCALENDAR
