BEGIN:VCALENDAR
VERSION:2.0
PRODID:-//frconline.org//NONSGML kigkonsult.se iCalcreator 2.30.10//
CALSCALE:GREGORIAN
METHOD:PUBLISH
UID:7fba2cf0-791e-40b6-9f1b-15f312c87fc6
X-WR-CALDESC:SÉ TU PROPIO HÉROE DEL CORAZÓN ESTRATEGIAS PARA MEJORAR LA SAL
 UD Y EL BIENESTAR DE SU CORAZÓN\nPresentado por:\nAmy Chadwick RN\, BSN\, 
 CPT Mywellnessrn.org\n\n•Conocimiento básico del corazón: cómo funciona (y
  cuándo no) •Reconocimiento de las señales principales de un ataque al cor
 azón •Comprensión de la presión arterial y sus factores influyentes.\n•Cóm
 o el ejercicio mejora su salud cardiovascular y bienestar emocional •¿Cual
 es son los alimentos saludables para el corazón?\n•Consejos para incorpora
 r alimentos saludables para el corazón en su dieta •El impacto del estrés 
 en el corazón y cómo descomprimirlo\n•Salud mental/emocional y los efectos
  en su sistema cardiovascular •Estrategias para ayudarlo a prosperar\nÚnas
 e a nosotros en Zoom los martes 2 y 16 de agosto de 2022 12:00 a 1:00 (Pre
 guntas y respuestas después de la presentación)\nLlame a FRC al 541-389-54
 68 opción 2 para registrarse
X-WR-RELCALID:f06c320b4fbdcb44da594f029b358c5a
X-WR-TIMEZONE:America/Los_Angeles
BEGIN:VTIMEZONE
TZID:America/Los_Angeles
BEGIN:STANDARD
TZNAME:PST
DTSTART:20211107T020000
TZOFFSETFROM:-0700
TZOFFSETTO:-0800
RDATE:20221106T020000
RDATE:20231105T020000
END:STANDARD
BEGIN:DAYLIGHT
TZNAME:PDT
DTSTART:20220313T020000
TZOFFSETFROM:-0800
TZOFFSETTO:-0700
RDATE:20230312T020000
END:DAYLIGHT
END:VTIMEZONE
BEGIN:VEVENT
UID:8a0359c0-728d-4afa-b0b2-b83828654df1
DTSTAMP:20260421T233722Z
DESCRIPTION:SÉ TU PROPIO HÉROE DEL CORAZÓN ESTRATEGIAS PARA MEJORAR LA SALU
 D Y EL BIENESTAR DE SU CORAZÓN\nPresentado por:\nAmy Chadwick RN\, BSN\, C
 PT Mywellnessrn.org\n\n•Conocimiento básico del corazón: cómo funciona (y 
 cuándo no) •Reconocimiento de las señales principales de un ataque al cora
 zón •Comprensión de la presión arterial y sus factores influyentes.\n•Cómo
  el ejercicio mejora su salud cardiovascular y bienestar emocional •¿Cuale
 s son los alimentos saludables para el corazón?\n•Consejos para incorporar
  alimentos saludables para el corazón en su dieta •El impacto del estrés e
 n el corazón y cómo descomprimirlo\n•Salud mental/emocional y los efectos 
 en su sistema cardiovascular •Estrategias para ayudarlo a prosperar\nÚnase
  a nosotros en Zoom los martes 2 y 16 de agosto de 2022 12:00 a 1:00 (Preg
 untas y respuestas después de la presentación)\nLlame a FRC al 541-389-546
 8 opción 2 para registrarse
DTSTART;TZID=America/Los_Angeles:20220816T120000
DTEND;TZID=America/Los_Angeles:20220816T130000
LOCATION:Via Zoom
SUMMARY:Almuerzo y aprendizaje de bienestar familiar
END:VEVENT
END:VCALENDAR
