BEGIN:VCALENDAR
VERSION:2.0
PRODID:-//frconline.org//NONSGML kigkonsult.se iCalcreator 2.30.10//
CALSCALE:GREGORIAN
METHOD:PUBLISH
UID:96112d46-90dc-40b3-9cb0-d645df29c6c9
X-WR-CALDESC:Para familias con niños de 8 a 15 años\nGRATIS!\nVia Zoom\nGan
 e premios!\n\nPara información o para registrarse llame al (541) 389-5468 
 opción #2
X-WR-RELCALID:c458124622f0122132bbfb1ce7648922
X-WR-TIMEZONE:America/Los_Angeles
BEGIN:VTIMEZONE
TZID:America/Los_Angeles
BEGIN:STANDARD
TZNAME:PST
DTSTART:20211107T020000
TZOFFSETFROM:-0700
TZOFFSETTO:-0800
RDATE:20221106T020000
RDATE:20231105T020000
END:STANDARD
BEGIN:DAYLIGHT
TZNAME:PDT
DTSTART:20220313T020000
TZOFFSETFROM:-0800
TZOFFSETTO:-0700
RDATE:20230312T020000
END:DAYLIGHT
END:VTIMEZONE
BEGIN:VEVENT
UID:5b5d01e7-2e61-4de4-83ef-62050990ed14
DTSTAMP:20260421T233712Z
DESCRIPTION:Para familias con niños de 8 a 15 años\nGRATIS!\nVia Zoom\nGane
  premios!\n\nPara información o para registrarse llame al (541) 389-5468 o
 pción #2
DTSTART;TZID=America/Los_Angeles:20220812T180000
DTEND;TZID=America/Los_Angeles:20220812T190000
LOCATION:
SUMMARY:Noche de Juegos en Familia
END:VEVENT
END:VCALENDAR
